BEGIN:VCALENDAR
VERSION:2.0
PRODID:-//Compagnie Alfred De La Neuche - ECPv6.15.15//NONSGML v1.0//EN
CALSCALE:GREGORIAN
METHOD:PUBLISH
X-ORIGINAL-URL:https://www.delaneuche.org
X-WR-CALDESC:Évènements pour Compagnie Alfred De La Neuche
REFRESH-INTERVAL;VALUE=DURATION:PT1H
X-Robots-Tag:noindex
X-PUBLISHED-TTL:PT1H
BEGIN:VTIMEZONE
TZID:Europe/Paris
BEGIN:DAYLIGHT
TZOFFSETFROM:+0100
TZOFFSETTO:+0200
TZNAME:CEST
DTSTART:20160327T010000
END:DAYLIGHT
BEGIN:STANDARD
TZOFFSETFROM:+0200
TZOFFSETTO:+0100
TZNAME:CET
DTSTART:20161030T010000
END:STANDARD
BEGIN:DAYLIGHT
TZOFFSETFROM:+0100
TZOFFSETTO:+0200
TZNAME:CEST
DTSTART:20170326T010000
END:DAYLIGHT
BEGIN:STANDARD
TZOFFSETFROM:+0200
TZOFFSETTO:+0100
TZNAME:CET
DTSTART:20171029T010000
END:STANDARD
BEGIN:DAYLIGHT
TZOFFSETFROM:+0100
TZOFFSETTO:+0200
TZNAME:CEST
DTSTART:20180325T010000
END:DAYLIGHT
BEGIN:STANDARD
TZOFFSETFROM:+0200
TZOFFSETTO:+0100
TZNAME:CET
DTSTART:20181028T010000
END:STANDARD
END:VTIMEZONE
BEGIN:VEVENT
DTSTART;TZID=Europe/Paris:20170503T143000
DTEND;TZID=Europe/Paris:20170503T163000
DTSTAMP:20260419T185447
CREATED:20170328T081804Z
LAST-MODIFIED:20170328T081804Z
UID:3167-1493821800-1493829000@www.delaneuche.org
SUMMARY:Création collective à la bibliothèque de Gignac
DESCRIPTION:Dans le cadre du Festibébés 2017\, nous  mettons en place des ateliers de création collective autour du thème « les oiseaux ». Au menu atelier de fabrication d’oiseaux de 14h30 à 16h30.
URL:https://www.delaneuche.org/date/creation-collective-a-la-bibliotheque-de-gignac/
CATEGORIES:Festibébés 2017
ATTACH;FMTTYPE=image/jpeg:https://www.delaneuche.org/administration/wp-content/uploads/2016/11/poussin.jpg
END:VEVENT
BEGIN:VEVENT
DTSTART;TZID=Europe/Paris:20170506T103000
DTEND;TZID=Europe/Paris:20170506T113000
DTSTAMP:20260419T185447
CREATED:20170328T082324Z
LAST-MODIFIED:20170504T093707Z
UID:3169-1494066600-1494070200@www.delaneuche.org
SUMMARY:Grand mère Takata à la médiathèque Samuel Beckett à Sérignan
DESCRIPTION:Dans le jardin de Grand-mère Takata\, il y a de drôles d’instruments sonores à découvrir\, des poèmes jolis\, des chansons pour jouer et un accordéon pour danser !  Accompagnée de son livre préféré\, Grand-mère Takata invite les tout- petits et les plus grands à découvrir son jardin. Un jardin qui change et évolue au fil des saisons et des ans…
URL:https://www.delaneuche.org/date/grand-mere-takata-a-la-mediatheque-samuel-becket/
CATEGORIES:Animation musicale
ATTACH;FMTTYPE=image/jpeg:https://www.delaneuche.org/administration/wp-content/uploads/2015/11/fleur-accordéon-gmt-et-le-jardin.jpg
END:VEVENT
BEGIN:VEVENT
DTSTART;TZID=Europe/Paris:20170507T093000
DTEND;TZID=Europe/Paris:20170507T120000
DTSTAMP:20260419T185447
CREATED:20170328T082757Z
LAST-MODIFIED:20170506T140054Z
UID:3172-1494149400-1494158400@www.delaneuche.org
SUMMARY:Journée familles à Saint Bauzille de la Sylve
DESCRIPTION:Un atelier de créations artistiques à partir de matériaux de récupération pour les familles sur le thème des oiseaux\ndimanche 7 mai de 9h30 à 12h00 : \nAteliers gratuits au siège de l’association à Saint Bauzille de la Sylve sur inscription  : \npar mail a.delaneuche@gmail.com ou par téléphone 04 67 84 32 58
URL:https://www.delaneuche.org/date/journee-familles-a-saint-bauzille-de-la-sylve-2/
CATEGORIES:Festibébés 2017
ATTACH;FMTTYPE=image/jpeg:https://www.delaneuche.org/administration/wp-content/uploads/2016/11/poussin.jpg
END:VEVENT
BEGIN:VEVENT
DTSTART;TZID=Europe/Paris:20170513T150000
DTEND;TZID=Europe/Paris:20170513T210000
DTSTAMP:20260419T185447
CREATED:20170328T083802Z
LAST-MODIFIED:20170328T083836Z
UID:3175-1494687600-1494709200@www.delaneuche.org
SUMMARY:Le Jardin Sonore au BacGround Festival à Clermont Ferrand
DESCRIPTION:Le Jardin sonore sera le samedi 13 mai à partir de 15h00 au BacGround Festival organisé par la ville de Clermont Ferrand. \nhttps://www.facebook.com/BacGroundFestival/
URL:https://www.delaneuche.org/date/le-jardin-sonore-au-bacground-festival-a-clermont-ferrand/
CATEGORIES:Le jardin sonore
ATTACH;FMTTYPE=image/jpeg:https://www.delaneuche.org/administration/wp-content/uploads/2016/06/IMG_0431.jpg
END:VEVENT
BEGIN:VEVENT
DTSTART;TZID=Europe/Paris:20170519T160000
DTEND;TZID=Europe/Paris:20170520T200000
DTSTAMP:20260419T185447
CREATED:20170328T092107Z
LAST-MODIFIED:20170516T094616Z
UID:3182-1495209600-1495310400@www.delaneuche.org
SUMMARY:Le Jardin Sonore à l'Odyssud Blagnac
DESCRIPTION:Le Jardin sonore d’Alfred sera installé à l’Odyssud de Blagnac le vendredi 19 de 16h00 à 20h00 et le samedi 20 mai de 14h00 à 20h00.
URL:https://www.delaneuche.org/date/le-village-sensoriel-a-lodyssud-blagnac/
CATEGORIES:Le jardin sonore
ATTACH;FMTTYPE=image/jpeg:https://www.delaneuche.org/administration/wp-content/uploads/2011/06/jardin-sonore-à-Sumène.jpg
END:VEVENT
BEGIN:VEVENT
DTSTART;TZID=Europe/Paris:20170520T140000
DTEND;TZID=Europe/Paris:20170520T190000
DTSTAMP:20260419T185447
CREATED:20170328T085913Z
LAST-MODIFIED:20170506T140315Z
UID:3178-1495288800-1495306800@www.delaneuche.org
SUMMARY:Le Jardin Sonore et les Ateliers de fabrication d'instruments aux "Bons Plants de Villeurbanne"
DESCRIPTION:Le Jardin Sonore sera présent aux Bons Plans de Villeurbanne accompagné d’ateliers de fabrication d’instruments. \nLe vendredi 19 mai nous animerons 6 ateliers de fabrication d’instruments pour les scolaires dans le cadre du Festival et le samedi 20 mai nous installerons le Jardin sonore dans le Parc Feyssine avec 3 ateliers de fabrication d’instruments. \n  \nhttp://www.parc-feyssine.villeurbanne.fr/feyssine_villeurbanne_bons_plants_2016.html#/home
URL:https://www.delaneuche.org/date/le-jardin-sonore-et-les-ateliers-de-fabrication-dinstruments-aux-bons-plants-de-villeurbanne/
CATEGORIES:Ateliers de fabrication d'instruments,Festival,Le jardin sonore
ATTACH;FMTTYPE=image/jpeg:https://www.delaneuche.org/administration/wp-content/uploads/2016/06/IMG_0431.jpg
END:VEVENT
BEGIN:VEVENT
DTSTART;TZID=Europe/Paris:20170527T100000
DTEND;TZID=Europe/Paris:20170527T180000
DTSTAMP:20260419T185447
CREATED:20170518T141419Z
LAST-MODIFIED:20170518T141419Z
UID:3544-1495879200-1495908000@www.delaneuche.org
SUMMARY:Le Jardin sonore au Festival "Tralala Tralalère" à  Gréasque
DESCRIPTION:Un festival comme on les aime\, Tralala Tralalère ! le bain d’art et de culture pour les tout-petits. Des décorations colorées et inventives\, une jolie programmation et une équipe énergique. Notre Jardin sonore y sera comme chez lui !
URL:https://www.delaneuche.org/date/le-jardin-sonore-au-festival-tralala-tralalere-a-greasque/
ATTACH;FMTTYPE=image/jpeg:https://www.delaneuche.org/administration/wp-content/uploads/2017/05/Jardin-sonore-Levallois.jpg
END:VEVENT
BEGIN:VEVENT
DTSTART;TZID=Europe/Paris:20170528T103000
DTEND;TZID=Europe/Paris:20170528T123000
DTSTAMP:20260419T185447
CREATED:20170518T140114Z
LAST-MODIFIED:20170518T140114Z
UID:3542-1495967400-1495974600@www.delaneuche.org
SUMMARY:Le Jardin sonore à la Ferronnerie "Le Tout petit Théâtre" à Marseille
DESCRIPTION:A l’occasion des dimanches de la Canebière\, la Ferronnerie « le tout petit théâtre »\, nous invite avec le Jardin Sonore d’Alfred à venir animer la rue pour notre plus grand plaisir le dimanche 28 mai de 10h30 à 12h30.
URL:https://www.delaneuche.org/date/le-jardin-sonore-a-la-ferronnerie-le-tout-petit-theatre-a-marseille/
CATEGORIES:Le jardin sonore
ATTACH;FMTTYPE=image/jpeg:https://www.delaneuche.org/administration/wp-content/uploads/2016/06/IMG_0431.jpg
END:VEVENT
END:VCALENDAR