BEGIN:VCALENDAR
VERSION:2.0
PRODID:-//Compagnie Alfred De La Neuche - ECPv6.15.15//NONSGML v1.0//EN
CALSCALE:GREGORIAN
METHOD:PUBLISH
X-WR-CALNAME:Compagnie Alfred De La Neuche
X-ORIGINAL-URL:https://www.delaneuche.org
X-WR-CALDESC:Évènements pour Compagnie Alfred De La Neuche
REFRESH-INTERVAL;VALUE=DURATION:PT1H
X-Robots-Tag:noindex
X-PUBLISHED-TTL:PT1H
BEGIN:VTIMEZONE
TZID:Europe/Paris
BEGIN:DAYLIGHT
TZOFFSETFROM:+0100
TZOFFSETTO:+0200
TZNAME:CEST
DTSTART:20160327T010000
END:DAYLIGHT
BEGIN:STANDARD
TZOFFSETFROM:+0200
TZOFFSETTO:+0100
TZNAME:CET
DTSTART:20161030T010000
END:STANDARD
BEGIN:DAYLIGHT
TZOFFSETFROM:+0100
TZOFFSETTO:+0200
TZNAME:CEST
DTSTART:20170326T010000
END:DAYLIGHT
BEGIN:STANDARD
TZOFFSETFROM:+0200
TZOFFSETTO:+0100
TZNAME:CET
DTSTART:20171029T010000
END:STANDARD
BEGIN:DAYLIGHT
TZOFFSETFROM:+0100
TZOFFSETTO:+0200
TZNAME:CEST
DTSTART:20180325T010000
END:DAYLIGHT
BEGIN:STANDARD
TZOFFSETFROM:+0200
TZOFFSETTO:+0100
TZNAME:CET
DTSTART:20181028T010000
END:STANDARD
END:VTIMEZONE
BEGIN:VEVENT
DTSTART;TZID=Europe/Paris:20170301T150000
DTEND;TZID=Europe/Paris:20170329T160000
DTSTAMP:20260419T214023
CREATED:20170130T110729Z
LAST-MODIFIED:20170130T144017Z
UID:3071-1488380400-1490803200@www.delaneuche.org
SUMMARY:"Pataclak... quand sème le vent" en tournée dans la communauté de Communes de Lunel
DESCRIPTION:Les mercredi  1er\, 8\, 15\, 22 et 29 Mars \n  \nOlga\, une jeune fille renfermée et solitaire\, dort paisiblement.\nSoudain\, elle voit la tranquillité de sa chambre troublée par une fenêtre rebelle qui s’ouvre à sa guise.\nUn vent glacial s’engouffre alors apportant avec lui un monde étrange et surprenant : des bisous sauvages\, des souliers sonores\, un personnage fantasque\, une valise musicale\, un lit à voile …\nOlga s’ouvrira-t-elle à ce monde ?\nEt si la réalité n’était pas si loin du rêve ?
URL:https://www.delaneuche.org/date/pataclak-quand-seme-le-vent-en-tournee-dans-la-communaute-de-communes-de-lunel/
CATEGORIES:Spectacles jeune et très jeune public
END:VEVENT
BEGIN:VEVENT
DTSTART;TZID=Europe/Paris:20170303T210000
DTEND;TZID=Europe/Paris:20170303T223000
DTSTAMP:20260419T214023
CREATED:20170124T141510Z
LAST-MODIFIED:20170124T142453Z
UID:3039-1488574800-1488580200@www.delaneuche.org
SUMMARY:Duo "Les Coquines" à Saussan à 21h00
DESCRIPTION:  \nRépertoire de chansons coquines et sensuelles\nElles s’appelaient Nine de Pervenche\, Violette de Charme\, Paulette Darty\, Odette Dulac\, Suzy Solidor ….\nOn les appelait «les diseuses»… Elles chantaient pour raconter des histoires sans prétention\, tour à tour subtiles\, idiotes\, gaies\, sensuelles. Nous étions dans les années 70/90 (du siècle avant-dernier). \nSalle des Trobars – Centre Culturel de Saussan
URL:https://www.delaneuche.org/date/duo-les-coquines-a-saussan-a-21h00/
CATEGORIES:Spectacles tout public
ATTACH;FMTTYPE=image/jpeg:https://www.delaneuche.org/administration/wp-content/uploads/2014/01/ouvrelafenetre2.jpg
END:VEVENT
BEGIN:VEVENT
DTSTART;TZID=Europe/Paris:20170304T100000
DTEND;TZID=Europe/Paris:20170304T120000
DTSTAMP:20260419T214023
CREATED:20170124T141756Z
LAST-MODIFIED:20170124T141756Z
UID:3041-1488621600-1488628800@www.delaneuche.org
SUMMARY:Eveil musical : chansons\, comptines métissées en français et Occitan
DESCRIPTION:Deux ateliers d’éveil musical\, l’un à 10h \, l’autre à 11 h.\nPour les familles. Pôle jeunesse – 1er étage de la médiathèque intercommunal du Pays de Lunel\nDe 0 à 3 ans.\nSur inscription au 04 67 99 06 51
URL:https://www.delaneuche.org/date/eveil-musical-chansons-comptines-metissees-en-francais-et-occitan-3/
CATEGORIES:Eveil musical
ATTACH;FMTTYPE=image/jpeg:https://www.delaneuche.org/administration/wp-content/uploads/2015/03/rencontres-e1457616801968.jpg
END:VEVENT
BEGIN:VEVENT
DTSTART;TZID=Europe/Paris:20170305T093000
DTEND;TZID=Europe/Paris:20170305T120000
DTSTAMP:20260419T214023
CREATED:20170124T150745Z
LAST-MODIFIED:20170124T150919Z
UID:3048-1488706200-1488715200@www.delaneuche.org
SUMMARY:Journée Familles à Saint Bauzille de la Sylve
DESCRIPTION:Dans le cadre du Festibébés 2017\, nous organisons une matinée pour les familles au siège de l’association. Le thème de ce dimanche 5 mars sera l’origami et les oiseaux. \nPlaces limitées\, sur inscription au 04 67 84 32 58 ou delaneuchediffusion@gmail.com
URL:https://www.delaneuche.org/date/journee-familles-a-saint-bauzille-de-la-sylve/
CATEGORIES:Animations
ATTACH;FMTTYPE=image/jpeg:https://www.delaneuche.org/administration/wp-content/uploads/2016/11/poussin.jpg
END:VEVENT
BEGIN:VEVENT
DTSTART;TZID=Europe/Paris:20170321T100000
DTEND;TZID=Europe/Paris:20170321T180000
DTSTAMP:20260419T214023
CREATED:20170124T152228Z
LAST-MODIFIED:20170314T100055Z
UID:3055-1490090400-1490119200@www.delaneuche.org
SUMMARY:Le Jardin sonore aux 20 ans des Jardins de Marqueyssac (24220)
DESCRIPTION:Le mardi 21 Mars de 10h00 à 18h00\, le Jardin sonore va animer les 20 ans de l’ouverture au public des jardins de Marqueyssac. \nhttp://marqueyssac.com/presentation-jardins/
URL:https://www.delaneuche.org/date/le-jardin-sonore-au-jardin-de-marqueyssac-24220/
CATEGORIES:Le jardin sonore
ATTACH;FMTTYPE=image/jpeg:https://www.delaneuche.org/administration/wp-content/uploads/2016/06/IMG_0431.jpg
END:VEVENT
BEGIN:VEVENT
DTSTART;TZID=Europe/Paris:20170325T100000
DTEND;TZID=Europe/Paris:20170325T120000
DTSTAMP:20260419T214023
CREATED:20170124T152607Z
LAST-MODIFIED:20170124T152647Z
UID:3057-1490436000-1490443200@www.delaneuche.org
SUMMARY:Création collective à la bibliothèque de Clermont l'hérault
DESCRIPTION:Dans le cadre du Festibébés 2017\, nous  mettons en place des ateliers de création collective autour du thème « les oiseaux ». Au menu atelier de fabrication d’oiseaux.
URL:https://www.delaneuche.org/date/creation-collective-a-la-bibliotheque-de-clermont-lherault-2/
CATEGORIES:Festibébés 2017
ATTACH;FMTTYPE=image/jpeg:https://www.delaneuche.org/administration/wp-content/uploads/2016/11/poussin.jpg
END:VEVENT
END:VCALENDAR