BEGIN:VCALENDAR
VERSION:2.0
PRODID:-//Compagnie Alfred De La Neuche - ECPv6.15.15//NONSGML v1.0//EN
CALSCALE:GREGORIAN
METHOD:PUBLISH
X-ORIGINAL-URL:https://www.delaneuche.org
X-WR-CALDESC:Évènements pour Compagnie Alfred De La Neuche
REFRESH-INTERVAL;VALUE=DURATION:PT1H
X-Robots-Tag:noindex
X-PUBLISHED-TTL:PT1H
BEGIN:VTIMEZONE
TZID:Europe/Paris
BEGIN:DAYLIGHT
TZOFFSETFROM:+0100
TZOFFSETTO:+0200
TZNAME:CEST
DTSTART:20160327T010000
END:DAYLIGHT
BEGIN:STANDARD
TZOFFSETFROM:+0200
TZOFFSETTO:+0100
TZNAME:CET
DTSTART:20161030T010000
END:STANDARD
BEGIN:DAYLIGHT
TZOFFSETFROM:+0100
TZOFFSETTO:+0200
TZNAME:CEST
DTSTART:20170326T010000
END:DAYLIGHT
BEGIN:STANDARD
TZOFFSETFROM:+0200
TZOFFSETTO:+0100
TZNAME:CET
DTSTART:20171029T010000
END:STANDARD
BEGIN:DAYLIGHT
TZOFFSETFROM:+0100
TZOFFSETTO:+0200
TZNAME:CEST
DTSTART:20180325T010000
END:DAYLIGHT
BEGIN:STANDARD
TZOFFSETFROM:+0200
TZOFFSETTO:+0100
TZNAME:CET
DTSTART:20181028T010000
END:STANDARD
END:VTIMEZONE
BEGIN:VEVENT
DTSTART;VALUE=DATE:20170119
DTEND;VALUE=DATE:20170121
DTSTAMP:20260420T002837
CREATED:20170105T092248Z
LAST-MODIFIED:20170105T092335Z
UID:2849-1484784000-1484956799@www.delaneuche.org
SUMMARY:Petit Bout d'Pomme
DESCRIPTION:Le jeudi 19 et le vendredi 20 janvier 2017 à 9h45 et 14h15. \nPièce vocale et musicale pour la petite enfance Elles sont deux\, Sarah Hassler et Marie-Aude Lacombe. Leurs mots se répondent\, leurs voix se mêlent. Sur le chemin\, elles se livrent peu à peu\, s’amusent et s’émerveillent\, chantent leurs désirs\, leurs peurs\, la vie. \nen savoir plus sur le spectacle
URL:https://www.delaneuche.org/date/petit-bout-dpomme/
LOCATION:Théâtre Jérome Savary\, Centre Culturel Bérenger de Frédol  BP 27 – 235 boulevard des Moures\, Villeneuve-lès-Maguelone\, 34750 \, France
CATEGORIES:Spectacles jeune et très jeune public
ATTACH;FMTTYPE=image/jpeg:https://www.delaneuche.org/administration/wp-content/uploads/2016/02/petit-bout-dpomme-e1457545790634.jpg
END:VEVENT
BEGIN:VEVENT
DTSTART;VALUE=DATE:20170126
DTEND;VALUE=DATE:20170127
DTSTAMP:20260420T002837
CREATED:20170105T100842Z
LAST-MODIFIED:20170105T110758Z
UID:2853-1485388800-1485475199@www.delaneuche.org
SUMMARY:Le Jardin sonore et le Village sensoriel d'Alfred
DESCRIPTION:Le jardin sonore et le village sensoriel d’Alfred passeront la journée du 26 Janvier dans l’école maternelle du Mazet à Guilherand-Granges. Au menu également des ateliers de fabrication d’instruments et des animations musicales de Solika. \nen savoir plus
URL:https://www.delaneuche.org/date/le-jardin-sonore-et-le-village-sensoriel-dalfred/
CATEGORIES:Animation musicale,Ateliers de fabrication d'instruments,Le jardin sonore,Le village sensoriel
ATTACH;FMTTYPE=image/jpeg:https://www.delaneuche.org/administration/wp-content/uploads/2015/10/village-sensoriel-e1457362233257.jpg
END:VEVENT
BEGIN:VEVENT
DTSTART;TZID=Europe/Paris:20170128T100000
DTEND;TZID=Europe/Paris:20170128T120000
DTSTAMP:20260420T002837
CREATED:20161226T111235Z
LAST-MODIFIED:20170105T093004Z
UID:2775-1485597600-1485604800@www.delaneuche.org
SUMMARY:Eveil musical : chansons\, comptines métissées en français et occitan
DESCRIPTION:Deux ateliers d’éveil musical\, l’un à 10h \, l’autre à 11 h.\nPour les familles. Pôle jeunesse – 1er étage de la médiathèque intercommunal du Pays de Lunel\nDe 0 à 3 ans.\nSur inscription au 04 67 99 06 51
URL:https://www.delaneuche.org/date/eveil-musical-chansons-comptines-metissees-en-francais-et-occitan/
LOCATION:Médiathèque intercommunal Pays de Lunel\,  520 avenue des abrivados\, Lunel\, 34400\, France
CATEGORIES:Eveil musical
ATTACH;FMTTYPE=image/jpeg:https://www.delaneuche.org/administration/wp-content/uploads/2015/03/rencontres-e1457616801968.jpg
END:VEVENT
END:VCALENDAR