BEGIN:VCALENDAR
VERSION:2.0
PRODID:-//Compagnie Alfred De La Neuche - ECPv6.15.15//NONSGML v1.0//EN
CALSCALE:GREGORIAN
METHOD:PUBLISH
X-WR-CALNAME:Compagnie Alfred De La Neuche
X-ORIGINAL-URL:https://www.delaneuche.org
X-WR-CALDESC:Évènements pour Compagnie Alfred De La Neuche
REFRESH-INTERVAL;VALUE=DURATION:PT1H
X-Robots-Tag:noindex
X-PUBLISHED-TTL:PT1H
BEGIN:VTIMEZONE
TZID:Europe/Paris
BEGIN:DAYLIGHT
TZOFFSETFROM:+0100
TZOFFSETTO:+0200
TZNAME:CEST
DTSTART:20150329T010000
END:DAYLIGHT
BEGIN:STANDARD
TZOFFSETFROM:+0200
TZOFFSETTO:+0100
TZNAME:CET
DTSTART:20151025T010000
END:STANDARD
BEGIN:DAYLIGHT
TZOFFSETFROM:+0100
TZOFFSETTO:+0200
TZNAME:CEST
DTSTART:20160327T010000
END:DAYLIGHT
BEGIN:STANDARD
TZOFFSETFROM:+0200
TZOFFSETTO:+0100
TZNAME:CET
DTSTART:20161030T010000
END:STANDARD
BEGIN:DAYLIGHT
TZOFFSETFROM:+0100
TZOFFSETTO:+0200
TZNAME:CEST
DTSTART:20170326T010000
END:DAYLIGHT
BEGIN:STANDARD
TZOFFSETFROM:+0200
TZOFFSETTO:+0100
TZNAME:CET
DTSTART:20171029T010000
END:STANDARD
END:VTIMEZONE
BEGIN:VEVENT
DTSTART;TZID=Europe/Paris:20161201T103000
DTEND;TZID=Europe/Paris:20161201T111500
DTSTAMP:20260420T015055
CREATED:20161103T131218Z
LAST-MODIFIED:20161103T133542Z
UID:2611-1480588200-1480590900@www.delaneuche.org
SUMMARY:"Je\, tu\, nous chantons" à la Bibliothèque de Montarnaud
DESCRIPTION:Spectacle musical interactif pour les enfants\n(leurs parents\, grands parents\, assistantes maternelles…) \njeudi 1er Décembre à 10h30 \ndans le cadre de la tournée dans le réseau des médiathèques de la CCVH\n \n« Je\, tu\, nous chantons ! » est une parenthèse musicale faite de chansons\, comptines et jeux de doigts puisés\ndans le répertoire de l’enfance.\nAccompagnée de sa guitare\, de multiples petits instruments et de matériaux sonores\,\nMarie-Aude Lacombe joue avec les mots\, les sons et les images.\nElle entraîne son auditoire\, au fil des musiques et des histoires\, passant d’une émotion à l’autre.\nTantôt joyeux et drôle\, tantôt tendre et poétique\, ce spectacle prend la couleur de l’humeur du moment.\nLa musicalité de la voix\, l’harmonie de la guitare\, les surprises visuelles et sonores\, font de ce spectacle\nun moment de plaisir et de partage où chacun retrouve des chansons connues et en découvrir de nouvelles.\nUne occasion privilégiée pour les parents et éducateurs\, d’accompagner l’enfant dans son éveil à la musique.\nQue l’on soit petit ou grand\, ensemble\, on écoute\, on regarde\, on rêve et …on chante ! \n 
URL:https://www.delaneuche.org/date/je-tu-nous-chantons-a-la-bibliotheque-de-montarnaud/
CATEGORIES:Animations
END:VEVENT
BEGIN:VEVENT
DTSTART;TZID=Europe/Paris:20161204T093000
DTEND;TZID=Europe/Paris:20161204T120000
DTSTAMP:20260420T015055
CREATED:20161115T162834Z
LAST-MODIFIED:20161129T094601Z
UID:2654-1480843800-1480852800@www.delaneuche.org
SUMMARY:Atelier de création artistique
DESCRIPTION:Un atelier de créations artistiques à partir de matériaux de récupération pour les familles sur le thème des oiseaux\ndimanche de 9h30 à 12h00 :\ndimanche 4 décembre\nAteliers gratuits au siège de l’association à Saint Bauzille de la Sylve sur inscription  : \npar mail a.delaneuche@gmail.com ou par téléphone 04 67 84 32 58 \nImaginons ensemble l’univers du Festibébés 2017 \nCréé par la Compagnie Alfred de la Neuche\, et co-organisé avec la Communauté de Communes Vallée de l’Hérault\, le Festibébés est un festival \nbi annuel gratuit\, dédié à la toute petite enfance (moins de 3 ans) avec spectacles\, concerts\, animations et des ateliers parents/enfants. \nEn septembre 2017\, se déroulera la 3ème édition de cet événement unique dans la région valorisant le métier des professionnels de la petite enfance\, favorisant le développement de l’imaginaire et la sensibilisation aux activités culturelles dès le plus jeune âge. \nPour réaliser la scénographie du prochain Festibébés\, des ateliers d’arts plastiques axés sur le recyclage\, l’utilisation de matériaux naturels\, ainsi que des ateliers musicaux « comptines et chansons »\, sont proposés sur le thème de l’oiseau. \nNichoirs\, plumes\, œufs\, nids\, chansons\, comptines… tout un univers coloré\, poétique et magique à fabriquer ensemble pour le prochain Festibébés \n  \nhttps://www.delaneuche.org/imaginons-ensemble-lunivers-du-festibebes-2017/
URL:https://www.delaneuche.org/date/atelier-de-creation-artistique-dans-le-cadre-du-festibebes-2017/
CATEGORIES:Animations
ATTACH;FMTTYPE=image/jpeg:https://www.delaneuche.org/administration/wp-content/uploads/2016/11/poussin.jpg
END:VEVENT
BEGIN:VEVENT
DTSTART;TZID=Europe/Paris:20161205T100000
DTEND;TZID=Europe/Paris:20161205T104500
DTSTAMP:20260420T015055
CREATED:20161103T132403Z
LAST-MODIFIED:20161103T133518Z
UID:2614-1480932000-1480934700@www.delaneuche.org
SUMMARY:"Je\, tu\, nous chantons" à la médiathèque de le Pouget
DESCRIPTION:Spectacle musical interactif pour les enfants\n(leurs parents\, grands parents\, assistantes maternelles…) \nlundi 5 Décembre à 10h00\n \ndans le cadre de la tournée dans le réseau des médiathèques de la CCVH \n« Je\, tu\, nous chantons ! » est une parenthèse musicale faite de chansons\, comptines et jeux de doigts puisés\ndans le répertoire de l’enfance.\nAccompagnée de sa guitare\, de multiples petits instruments et de matériaux sonores\,\nMarie-Aude Lacombe joue avec les mots\, les sons et les images.\nElle entraîne son auditoire\, au fil des musiques et des histoires\, passant d’une émotion à l’autre.\nTantôt joyeux et drôle\, tantôt tendre et poétique\, ce spectacle prend la couleur de l’humeur du moment.\nLa musicalité de la voix\, l’harmonie de la guitare\, les surprises visuelles et sonores\, font de ce spectacle\nun moment de plaisir et de partage où chacun retrouve des chansons connues et en découvrir de nouvelles.\nUne occasion privilégiée pour les parents et éducateurs\, d’accompagner l’enfant dans son éveil à la musique.\nQue l’on soit petit ou grand\, ensemble\, on écoute\, on regarde\, on rêve et …on chante !
URL:https://www.delaneuche.org/date/je-tu-nous-chantons-a-la-mediatheque-de-le-pouget/
CATEGORIES:Animations
END:VEVENT
BEGIN:VEVENT
DTSTART;TZID=Europe/Paris:20161206T100000
DTEND;TZID=Europe/Paris:20161206T104500
DTSTAMP:20260420T015055
CREATED:20161103T132708Z
LAST-MODIFIED:20161103T133459Z
UID:2617-1481018400-1481021100@www.delaneuche.org
SUMMARY:"Je\, Tu\, Nous Chantons" à la bibliothèque de Saint-André de Sangonis
DESCRIPTION:Spectacle musical interactif pour les enfants\n(leurs parents\, grands parents\, assistantes maternelles…) \nmardi 6 Décembre à 10h00\n \ndans le cadre de la tournée dans le réseau des médiathèques de la CCVH \n« Je\, tu\, nous chantons ! » est une parenthèse musicale faite de chansons\, comptines et jeux de doigts puisés\ndans le répertoire de l’enfance.\nAccompagnée de sa guitare\, de multiples petits instruments et de matériaux sonores\,\nMarie-Aude Lacombe joue avec les mots\, les sons et les images.\nElle entraîne son auditoire\, au fil des musiques et des histoires\, passant d’une émotion à l’autre.\nTantôt joyeux et drôle\, tantôt tendre et poétique\, ce spectacle prend la couleur de l’humeur du moment.\nLa musicalité de la voix\, l’harmonie de la guitare\, les surprises visuelles et sonores\, font de ce spectacle\nun moment de plaisir et de partage où chacun retrouve des chansons connues et en découvrir de nouvelles.\nUne occasion privilégiée pour les parents et éducateurs\, d’accompagner l’enfant dans son éveil à la musique.\nQue l’on soit petit ou grand\, ensemble\, on écoute\, on regarde\, on rêve et …on chante !
URL:https://www.delaneuche.org/date/je-tu-nous-chantons-a-la-bibliotheque-de-saint-andre-de-sangonis/
CATEGORIES:Animation musicale
END:VEVENT
BEGIN:VEVENT
DTSTART;VALUE=DATE:20161207
DTEND;VALUE=DATE:20161209
DTSTAMP:20260420T015055
CREATED:20161103T134356Z
LAST-MODIFIED:20161103T134440Z
UID:2628-1481068800-1481241599@www.delaneuche.org
SUMMARY:"Petit Bout d'pomme" à la médiathèque de Castelnaudary
DESCRIPTION:Le mercredi 7 et le jeudi 8 décembre 2016 \nPièce vocale et musicale pour la petite enfance Elles sont deux\, Sarah Hassler et Marie-Aude Lacombe. Leurs mots se répondent\, leurs voix se mêlent. Sur le chemin\, elles se livrent peu à peu\, s’amusent et s’émerveillent\, chantent leurs désirs\, leurs peurs\, la vie. \nen savoir plus sur le spectacle
URL:https://www.delaneuche.org/date/petit-bout-dpomme-a-la-mediatheque-de-castelnaudary/
CATEGORIES:Spectacles jeune et très jeune public
ATTACH;FMTTYPE=image/jpeg:https://www.delaneuche.org/administration/wp-content/uploads/2016/02/petit-bout-dpomme-e1457545790634.jpg
END:VEVENT
BEGIN:VEVENT
DTSTART;TZID=Europe/Paris:20161209T094500
DTEND;TZID=Europe/Paris:20161209T113000
DTSTAMP:20260420T015055
CREATED:20161103T132853Z
LAST-MODIFIED:20161103T133438Z
UID:2619-1481276700-1481283000@www.delaneuche.org
SUMMARY:"Je\, Tu\, Nous Chantons" à la médiathèque de Gignac
DESCRIPTION:Spectacle musical interactif pour les enfants\n(leurs parents\, grands parents\, assistantes maternelles…) \nvendredi 9 Décembre à 9h45 et à 10h45\n \ndans le cadre de la tournée dans le réseau des médiathèques de la CCVH \n« Je\, tu\, nous chantons ! » est une parenthèse musicale faite de chansons\, comptines et jeux de doigts puisés\ndans le répertoire de l’enfance.\nAccompagnée de sa guitare\, de multiples petits instruments et de matériaux sonores\,\nMarie-Aude Lacombe joue avec les mots\, les sons et les images.\nElle entraîne son auditoire\, au fil des musiques et des histoires\, passant d’une émotion à l’autre.\nTantôt joyeux et drôle\, tantôt tendre et poétique\, ce spectacle prend la couleur de l’humeur du moment.\nLa musicalité de la voix\, l’harmonie de la guitare\, les surprises visuelles et sonores\, font de ce spectacle\nun moment de plaisir et de partage où chacun retrouve des chansons connues et en découvrir de nouvelles.\nUne occasion privilégiée pour les parents et éducateurs\, d’accompagner l’enfant dans son éveil à la musique.\nQue l’on soit petit ou grand\, ensemble\, on écoute\, on regarde\, on rêve et …on chante !
URL:https://www.delaneuche.org/date/2619/
CATEGORIES:Animation musicale
END:VEVENT
BEGIN:VEVENT
DTSTART;TZID=Europe/Paris:20161215T100000
DTEND;TZID=Europe/Paris:20161216T143000
DTSTAMP:20260420T015055
CREATED:20160901T135142Z
LAST-MODIFIED:20161215T132854Z
UID:2535-1481796000-1481898600@www.delaneuche.org
SUMMARY:PaTaClak... ou la rencontre d'Issi et Olga au Théâtre Jacques Coeur à Montpellier
DESCRIPTION:Fantaisie percussive et musicale \nJeudi 15 : 10h00/14h30 et vendredi 16 : 10h00/14h30 \nAudrey Isnard et Marie Aude Lacombe proposent « PaTaClaK…ou la rencontre d’Issi et Olga » \, un spectacle musical théâtralisé. \nMêlant guitare et claquettes\, chansons et percussions\, elles créent un univers musical tout en fantaisie et légèreté. \nElles font sonner les mots et résonner ce qui les entoure\, au gré de leur inspiration. \nen savoir plus sur « PaTaClak… ou la rencontre d’Issi et Olga »
URL:https://www.delaneuche.org/date/pataclak-au-theatre-jacques-coeur-a-montpellier/
END:VEVENT
BEGIN:VEVENT
DTSTART;TZID=Europe/Paris:20161216T150000
DTEND;TZID=Europe/Paris:20161216T154500
DTSTAMP:20260420T015055
CREATED:20161103T135324Z
LAST-MODIFIED:20161103T135324Z
UID:2634-1481900400-1481903100@www.delaneuche.org
SUMMARY:Les P'tits Bobos à la crèche "A petits Pas" Aspiran
DESCRIPTION:le vendredi 16 Décembre \nQuand on a un p’tit bobo\, c’est pas toujours rigolo. Mais à la boutique de Madame Fenouil et de Pomadine\, les p’tits bobos s’en vont\,  emportés par la… magie ? musique ? chansons ? potions ? sourires ? amour ? rire ? allez savoir…
URL:https://www.delaneuche.org/date/les-ptits-bobos-a-la-creche-a-petits-pas-aspiran/
ATTACH;FMTTYPE=image/jpeg:https://www.delaneuche.org/administration/wp-content/uploads/2015/03/pomadine-et-fenouil-home.jpg
END:VEVENT
BEGIN:VEVENT
DTSTART;TZID=Europe/Paris:20161219T100000
DTEND;TZID=Europe/Paris:20161219T104500
DTSTAMP:20260420T015055
CREATED:20161103T133313Z
LAST-MODIFIED:20161103T133313Z
UID:2621-1482141600-1482144300@www.delaneuche.org
SUMMARY:"Je\, Tu\, Nous Chantons" à la salle Max Paux de Saint Pargoire
DESCRIPTION:Spectacle musical interactif pour les enfants\n(leurs parents\, grands parents\, assistantes maternelles…) \nlundi 19 Décembre à 10h00  \ndans le cadre de la tournée dans le réseau des médiathèques de la CCVH\n \n« Je\, tu\, nous chantons ! » est une parenthèse musicale faite de chansons\, comptines et jeux de doigts puisés\ndans le répertoire de l’enfance.\nAccompagnée de sa guitare\, de multiples petits instruments et de matériaux sonores\,\nMarie-Aude Lacombe joue avec les mots\, les sons et les images.\nElle entraîne son auditoire\, au fil des musiques et des histoires\, passant d’une émotion à l’autre.\nTantôt joyeux et drôle\, tantôt tendre et poétique\, ce spectacle prend la couleur de l’humeur du moment.\nLa musicalité de la voix\, l’harmonie de la guitare\, les surprises visuelles et sonores\, font de ce spectacle\nun moment de plaisir et de partage où chacun retrouve des chansons connues et en découvrir de nouvelles.\nUne occasion privilégiée pour les parents et éducateurs\, d’accompagner l’enfant dans son éveil à la musique.\nQue l’on soit petit ou grand\, ensemble\, on écoute\, on regarde\, on rêve et …on chante !
URL:https://www.delaneuche.org/date/je-tu-nous-chantons-a-la-salle-max-paux-de-saint-pargoire/
CATEGORIES:Animation musicale
END:VEVENT
BEGIN:VEVENT
DTSTART;VALUE=DATE:20161220
DTEND;VALUE=DATE:20161221
DTSTAMP:20260420T015055
CREATED:20161103T134846Z
LAST-MODIFIED:20161115T081037Z
UID:2630-1482192000-1482278399@www.delaneuche.org
SUMMARY:Le Cadeau des Neiges à Belmont sur Rance
DESCRIPTION:le mardi 20 décembre \nConte poétique et découverte sonore pour les moins de trois ans (existe aussi en version 3/6 ans) \nL’art et la manière de créer son univers avec ses propres moyens\, ses bouts d’ficelle et ses p’tites récup’ avec une grand mère\, un cadeau à recevoir\, et de la neige à inventer… Une histoire drôle et poétique pour les tout petits avec des sons\, des couleurs et des gestes à la mesure de leurs oreilles\, leurs yeux et leur sensibilité. A partager en famille.
URL:https://www.delaneuche.org/date/le-cadeau-des-neiges-a-belmont-sur-rance/
ATTACH;FMTTYPE=image/jpeg:https://www.delaneuche.org/administration/wp-content/uploads/2015/12/Le-Cadeau-des-neiges-final-2015-copie.jpg
END:VEVENT
BEGIN:VEVENT
DTSTART;VALUE=DATE:20161222
DTEND;VALUE=DATE:20161223
DTSTAMP:20260420T015055
CREATED:20161103T135016Z
LAST-MODIFIED:20161215T162348Z
UID:2632-1482364800-1482451199@www.delaneuche.org
SUMMARY:Le Cadeau des Neiges à Coupiac
DESCRIPTION:le jeudi 22 décembre à 15h30 \nConte poétique et découverte sonore pour les moins de trois ans (existe aussi en version 3/6 ans) \nL’art et la manière de créer son univers avec ses propres moyens\, ses bouts d’ficelle et ses p’tites récup’ avec une grand mère\, un cadeau à recevoir\, et de la neige à inventer… Une histoire drôle et poétique pour les tout petits avec des sons\, des couleurs et des gestes à la mesure de leurs oreilles\, leurs yeux et leur sensibilité. A partager en famille.
URL:https://www.delaneuche.org/date/le-cadeau-des-neiges-a-coupiac/
ATTACH;FMTTYPE=image/jpeg:https://www.delaneuche.org/administration/wp-content/uploads/2015/12/Le-Cadeau-des-neiges-final-2015-copie.jpg
END:VEVENT
END:VCALENDAR