BEGIN:VCALENDAR
VERSION:2.0
PRODID:-//Compagnie Alfred De La Neuche - ECPv6.15.15//NONSGML v1.0//EN
CALSCALE:GREGORIAN
METHOD:PUBLISH
X-ORIGINAL-URL:https://www.delaneuche.org
X-WR-CALDESC:Évènements pour Compagnie Alfred De La Neuche
REFRESH-INTERVAL;VALUE=DURATION:PT1H
X-Robots-Tag:noindex
X-PUBLISHED-TTL:PT1H
BEGIN:VTIMEZONE
TZID:Europe/Paris
BEGIN:DAYLIGHT
TZOFFSETFROM:+0100
TZOFFSETTO:+0200
TZNAME:CEST
DTSTART:20150329T010000
END:DAYLIGHT
BEGIN:STANDARD
TZOFFSETFROM:+0200
TZOFFSETTO:+0100
TZNAME:CET
DTSTART:20151025T010000
END:STANDARD
BEGIN:DAYLIGHT
TZOFFSETFROM:+0100
TZOFFSETTO:+0200
TZNAME:CEST
DTSTART:20160327T010000
END:DAYLIGHT
BEGIN:STANDARD
TZOFFSETFROM:+0200
TZOFFSETTO:+0100
TZNAME:CET
DTSTART:20161030T010000
END:STANDARD
BEGIN:DAYLIGHT
TZOFFSETFROM:+0100
TZOFFSETTO:+0200
TZNAME:CEST
DTSTART:20170326T010000
END:DAYLIGHT
BEGIN:STANDARD
TZOFFSETFROM:+0200
TZOFFSETTO:+0100
TZNAME:CET
DTSTART:20171029T010000
END:STANDARD
END:VTIMEZONE
BEGIN:VEVENT
DTSTART;TZID=Europe/Paris:20161105T200000
DTEND;TZID=Europe/Paris:20161105T213000
DTSTAMP:20260420T031438
CREATED:20160913T125158Z
LAST-MODIFIED:20160913T125158Z
UID:2550-1478376000-1478381400@www.delaneuche.org
SUMMARY:Duo "Les Coquines" à la Tour sur Orb
DESCRIPTION:Répertoire de chansons coquines et sensuelles\nElles s’appelaient Nine de Pervenche\, Violette de Charme\, Paulette Darty\, Odette Dulac\, Suzy Solidor ….\nOn les appelait «les diseuses»… Elles chantaient pour raconter des histoires sans prétention\, tour à tour subtiles\, idiotes\, gaies\, sensuelles. Nous étions dans les années 70/90 (du siècle avant-dernier). \nen savoir plus sur les coquines
URL:https://www.delaneuche.org/date/duo-les-coquines-a-la-tour-sur-orb/
CATEGORIES:Spectacles tout public
ATTACH;FMTTYPE=image/jpeg:https://www.delaneuche.org/administration/wp-content/uploads/2014/01/ouvrelafenetre2.jpg
END:VEVENT
BEGIN:VEVENT
DTSTART;TZID=Europe/Paris:20161111T093000
DTEND;TZID=Europe/Paris:20161112T170000
DTSTAMP:20260420T031438
CREATED:20160905T134459Z
LAST-MODIFIED:20190328T093557Z
UID:2545-1478856600-1478970000@www.delaneuche.org
SUMMARY:Stage d'accordéon diatonique à Saint Bauzille de la Sylve
DESCRIPTION:Stage de diatonique \, travail sur les accords pour accompagnement de musique à danser\, avec Filippo Gambetta à Saint Bauzille de la Sylve (34)  du vendredi 11 au samedi 12 novembre 2016 de 9h30 à 17h.\n\nNiveau moyen et avancé / Diato deux rangs Sol-Do\n\nFilippo : Ce musicien hors pair\, qui joue dans toute l’Europe est aussi un très bon pédagogue\, désireux de transmettre sa passion. Il nous fait le plaisir\, de se poser à St Bauzille de la Sylve. C’est un stage à ne pas rater !\n\nTarif : 60 € le stage + 15 € adhésion à l’association\n\nBalêti le samedi soir à la salle polyvalente de ST Bauzille à partir de 20h30.\n\n \n\nAttention : le Stage est complet !
URL:https://www.delaneuche.org/date/stage-daccordeon-diatonique-a-saint-bauzille-de-la-sylve/
CATEGORIES:Stages et Formations
ATTACH;FMTTYPE=image/png:https://www.delaneuche.org/administration/wp-content/uploads/2015/11/Capture-d’écran-2015-10-19-à-12.06.45.png
END:VEVENT
BEGIN:VEVENT
DTSTART;TZID=Europe/Paris:20161112T193000
DTEND;TZID=Europe/Paris:20161112T235500
DTSTAMP:20260420T031438
CREATED:20160920T085107Z
LAST-MODIFIED:20161024T154754Z
UID:2553-1478979000-1478994900@www.delaneuche.org
SUMMARY:Balèti à Saint Bauzille de la Sylve
DESCRIPTION:Balèti le samedi 12 Novembre à partir de19h30 à la salle des fêtes de Saint Bauzille de la Sylve avec Filippo Gambetta et les duos « Biscam Pas » et « Musique à deux ». \nAu menu\, danses traditionnelles occitanes\,  italiennes\, suédoises\, québécoises\, et tuti quanti ! \nAprès sa venue en mai dernier\, Filippo revient pour notre plus grand plaisir nous faire danser dans une ambiance festive et joyeuse. Une belle soirée en perspective à laquelle se joint le duo « Biscam Pas » qu’on ne présente plus dans la région\, et « Musique à deux »\, habitués des bals folks dans toute la France et prêts à vous faire danser jusqu’au petit matin ! \nEntrée : 8 €\, 6 €\, 3 € selon les bourses (plein tarifs\, tarifs adhérents\, tarifs éco) \nBuvette sur place avec petite restauration \nen savoir plus sur Filippo Gambetta \nen savoir plus sur Biscam Pas  \nen savoir plus Musique à deux
URL:https://www.delaneuche.org/date/baleti-a-saint-bauzille-de-la-sylve/
LOCATION:Alfred de la Neuche\, 4 chemin de Garrafax\, Saint Bazuille de la Sylve\, 34230
CATEGORIES:Balèti
ATTACH;FMTTYPE=image/jpeg:https://www.delaneuche.org/administration/wp-content/uploads/2016/09/Filippo.jpg
END:VEVENT
END:VCALENDAR