BEGIN:VCALENDAR
VERSION:2.0
PRODID:-//Compagnie Alfred De La Neuche - ECPv6.15.15//NONSGML v1.0//EN
CALSCALE:GREGORIAN
METHOD:PUBLISH
X-WR-CALNAME:Compagnie Alfred De La Neuche
X-ORIGINAL-URL:https://www.delaneuche.org
X-WR-CALDESC:Évènements pour Compagnie Alfred De La Neuche
REFRESH-INTERVAL;VALUE=DURATION:PT1H
X-Robots-Tag:noindex
X-PUBLISHED-TTL:PT1H
BEGIN:VTIMEZONE
TZID:Europe/Paris
BEGIN:DAYLIGHT
TZOFFSETFROM:+0100
TZOFFSETTO:+0200
TZNAME:CEST
DTSTART:20150329T010000
END:DAYLIGHT
BEGIN:STANDARD
TZOFFSETFROM:+0200
TZOFFSETTO:+0100
TZNAME:CET
DTSTART:20151025T010000
END:STANDARD
BEGIN:DAYLIGHT
TZOFFSETFROM:+0100
TZOFFSETTO:+0200
TZNAME:CEST
DTSTART:20160327T010000
END:DAYLIGHT
BEGIN:STANDARD
TZOFFSETFROM:+0200
TZOFFSETTO:+0100
TZNAME:CET
DTSTART:20161030T010000
END:STANDARD
BEGIN:DAYLIGHT
TZOFFSETFROM:+0100
TZOFFSETTO:+0200
TZNAME:CEST
DTSTART:20170326T010000
END:DAYLIGHT
BEGIN:STANDARD
TZOFFSETFROM:+0200
TZOFFSETTO:+0100
TZNAME:CET
DTSTART:20171029T010000
END:STANDARD
END:VTIMEZONE
BEGIN:VEVENT
DTSTART;TZID=Europe/Paris:20160703T090000
DTEND;TZID=Europe/Paris:20160703T180000
DTSTAMP:20260420T090117
CREATED:20160216T091338Z
LAST-MODIFIED:20160310T112323Z
UID:2124-1467536400-1467568800@www.delaneuche.org
SUMMARY:Les ateliers de fabrication d'instruments d'Alfred à "Festidrôle" - Simorre
DESCRIPTION:Festidrôle nous invite pour la seconde année à venir animer les rues de Simorre\, joli village du Gers\, et ce pour notre plus grand plaisir ! \nEn savoir plus sur les ateliers de fabrication d’instruments
URL:https://www.delaneuche.org/date/les-ateliers-de-fabrication-dinstruments-dalfred/
CATEGORIES:Ateliers de fabrication d'instruments,Festival
ATTACH;FMTTYPE=image/jpeg:https://www.delaneuche.org/administration/wp-content/uploads/2016/02/fabrication-roseaux-ciealfred-de-la-Neuche-e1457358798662.jpg
END:VEVENT
BEGIN:VEVENT
DTSTART;TZID=Europe/Paris:20160717T090000
DTEND;TZID=Europe/Paris:20160718T180000
DTSTAMP:20260420T090117
CREATED:20160620T083439Z
LAST-MODIFIED:20160710T110942Z
UID:2417-1468746000-1468864800@www.delaneuche.org
SUMMARY:Stage de fabrication d'instruments sonores
DESCRIPTION:Deux journées pour apprendre les bases de fabrication d’instruments sonores et leur utilisation avec des jeux musicaux. \nLieu : Saint Bauzille de la Sylve\, hébergement possible\, repas partagés \nTarif : nous consulter
URL:https://www.delaneuche.org/date/stage-de-fabrication-dinstruments-sonores/
CATEGORIES:Ateliers de fabrication d'instruments
ATTACH;FMTTYPE=image/jpeg:https://www.delaneuche.org/administration/wp-content/uploads/2010/04/stage-fabrication-dinstruments-e1457360764936.jpg
END:VEVENT
BEGIN:VEVENT
DTSTART;VALUE=DATE:20160721
DTEND;VALUE=DATE:20160722
DTSTAMP:20260420T090117
CREATED:20160510T144228Z
LAST-MODIFIED:20160510T145355Z
UID:2397-1469059200-1469145599@www.delaneuche.org
SUMMARY:Les Super Jeannettes au Festival Rockissimo - Sablé-sur-Sarthe
DESCRIPTION:En route pour Sablé-sur-Sarthe et son beau Festival Rockissimo\, les Super Jeannettes à cette occasion ont aiguisé leurs guitares !
URL:https://www.delaneuche.org/date/les-super-jeannettes-au-festival-rockissimo-sable-sur-sarthe/
CATEGORIES:Animations,Festival
END:VEVENT
BEGIN:VEVENT
DTSTART;VALUE=DATE:20160723
DTEND;VALUE=DATE:20160724
DTSTAMP:20260420T090117
CREATED:20160216T092628Z
LAST-MODIFIED:20160710T104544Z
UID:2128-1469232000-1469318399@www.delaneuche.org
SUMMARY:Les Super Jeannettes au Festival "les rencontres enchantées - Saubrigues
DESCRIPTION:C’est armées de leurs guitares et autres instruments insolites que les Super Jeannettes s’apprêtent à conquérir les Landes et y faire de jolies rencontres enchantées… \n  \nen savoir plus sur les Super Jeannettes
URL:https://www.delaneuche.org/date/les-super-jeannettes/
LOCATION:Lieu sans nom\, Saubrigues\, 40230
CATEGORIES:Festival
END:VEVENT
BEGIN:VEVENT
DTSTART;TZID=Europe/Paris:20160728T190000
DTEND;TZID=Europe/Paris:20160728T220000
DTSTAMP:20260420T090117
CREATED:20160725T123835Z
LAST-MODIFIED:20160725T124053Z
UID:2448-1469732400-1469743200@www.delaneuche.org
SUMMARY:Le Jardin des poètes à Saint Pargoire
DESCRIPTION:C’est à l’occasion du marché des producteurs que Solika et Véronique viendront enchanter petits et grands avec « le Jardin des Poètes » le jeudi 28 Juillet à partir de 19h00 \nen savoir plus
URL:https://www.delaneuche.org/date/le-jardin-des-poetes-a-saint-pargoire/
CATEGORIES:Animations
ATTACH;FMTTYPE=image/jpeg:https://www.delaneuche.org/administration/wp-content/uploads/2012/10/sol-et-vero1.jpg
END:VEVENT
END:VCALENDAR