BEGIN:VCALENDAR
VERSION:2.0
PRODID:-//Compagnie Alfred De La Neuche - ECPv6.15.15//NONSGML v1.0//EN
CALSCALE:GREGORIAN
METHOD:PUBLISH
X-WR-CALNAME:Compagnie Alfred De La Neuche
X-ORIGINAL-URL:https://www.delaneuche.org
X-WR-CALDESC:Évènements pour Compagnie Alfred De La Neuche
REFRESH-INTERVAL;VALUE=DURATION:PT1H
X-Robots-Tag:noindex
X-PUBLISHED-TTL:PT1H
BEGIN:VTIMEZONE
TZID:Europe/Paris
BEGIN:DAYLIGHT
TZOFFSETFROM:+0100
TZOFFSETTO:+0200
TZNAME:CEST
DTSTART:20150329T010000
END:DAYLIGHT
BEGIN:STANDARD
TZOFFSETFROM:+0200
TZOFFSETTO:+0100
TZNAME:CET
DTSTART:20151025T010000
END:STANDARD
BEGIN:DAYLIGHT
TZOFFSETFROM:+0100
TZOFFSETTO:+0200
TZNAME:CEST
DTSTART:20160327T010000
END:DAYLIGHT
BEGIN:STANDARD
TZOFFSETFROM:+0200
TZOFFSETTO:+0100
TZNAME:CET
DTSTART:20161030T010000
END:STANDARD
BEGIN:DAYLIGHT
TZOFFSETFROM:+0100
TZOFFSETTO:+0200
TZNAME:CEST
DTSTART:20170326T010000
END:DAYLIGHT
BEGIN:STANDARD
TZOFFSETFROM:+0200
TZOFFSETTO:+0100
TZNAME:CET
DTSTART:20171029T010000
END:STANDARD
END:VTIMEZONE
BEGIN:VEVENT
DTSTART;TZID=Europe/Paris:20160604T093000
DTEND;TZID=Europe/Paris:20160604T120000
DTSTAMP:20260420T105043
CREATED:20160531T070207Z
LAST-MODIFIED:20160531T071139Z
UID:2407-1465032600-1465041600@www.delaneuche.org
SUMMARY:Le Jardin sonore au Parc de Saint Drezery
DESCRIPTION:Le Ram de Saint Drézery a choisi le Jardin sonore d’Alfred pour animer la Fête du RAM. \nen savoir plus sur le jardin sonore
URL:https://www.delaneuche.org/date/le-jardin-sonore-au-parc-de-saint-drezery/
END:VEVENT
BEGIN:VEVENT
DTSTART;TZID=Europe/Paris:20160611T110000
DTEND;TZID=Europe/Paris:20160612T180000
DTSTAMP:20260420T105043
CREATED:20160128T102410Z
LAST-MODIFIED:20160308T140014Z
UID:2092-1465642800-1465754400@www.delaneuche.org
SUMMARY:Le Jardin sonore et les ateliers de fabrication d'instruments au "Diabolo Festival" - Morges / Suisse
DESCRIPTION: C’est  une grande joie pour nous  de retourner pour la deuxième année consécutive au Diabolo Festival de Morges et de pouvoir à nouveau admirer cette magnifique région de la Suisse. \nen savoir plus sur le Jardin sonore
URL:https://www.delaneuche.org/date/le-jardin-sonore-et-les-ateliers-de-fabrication-dinstruments-au-diabolo-festival-morges-suisse/
LOCATION:Lieu sans nom\, Morges\, Suisse
CATEGORIES:Le jardin sonore
ATTACH;FMTTYPE=image/jpeg:https://www.delaneuche.org/administration/wp-content/uploads/2015/07/home-page-festibebes.jpg
END:VEVENT
BEGIN:VEVENT
DTSTART;TZID=Europe/Paris:20160612T140000
DTEND;TZID=Europe/Paris:20160612T190000
DTSTAMP:20260420T105043
CREATED:20160531T064554Z
LAST-MODIFIED:20160531T065038Z
UID:2405-1465740000-1465758000@www.delaneuche.org
SUMMARY:Le Village sensoriel  à la Fête des Mômes à Sainte Geneviève des Bois
DESCRIPTION:La ville de Sainte Geneviève des Bois  accueille\, cette année\, le Village Sensoriel d’Alfred dans le cadre de la fête des Mômes ! \n  \nen savoir plus sur le Village sensoriel
URL:https://www.delaneuche.org/date/le-village-sensoriel-a-la-fete-des-momes-a-sainte-genevieve-des-bois/
CATEGORIES:Festival,Le village sensoriel
ATTACH;FMTTYPE=image/jpeg:https://www.delaneuche.org/administration/wp-content/uploads/2015/10/village-sensoriel-e1457362233257.jpg
END:VEVENT
BEGIN:VEVENT
DTSTART;TZID=Europe/Paris:20160626T140000
DTEND;TZID=Europe/Paris:20160626T180000
DTSTAMP:20260420T105043
CREATED:20160620T082221Z
LAST-MODIFIED:20160620T082221Z
UID:2414-1466949600-1466964000@www.delaneuche.org
SUMMARY:Le Jardin Sonore d'Alfred : "un Dimanche à la Plage" à Livron sur Drome
DESCRIPTION:
URL:https://www.delaneuche.org/date/le-jardin-sonore-dalfred-un-dimanche-a-la-plage-a-livron-sur-drome/
CATEGORIES:Festival,Le jardin sonore
ATTACH;FMTTYPE=image/jpeg:https://www.delaneuche.org/administration/wp-content/uploads/2016/06/IMG_0431.jpg
END:VEVENT
BEGIN:VEVENT
DTSTART;TZID=Europe/Paris:20160630T100000
DTEND;TZID=Europe/Paris:20160630T110000
DTSTAMP:20260420T105043
CREATED:20160620T082837Z
LAST-MODIFIED:20160620T082837Z
UID:2416-1467280800-1467284400@www.delaneuche.org
SUMMARY:Animations musicales "Jeudis des tout-petits" à l'espace Recto Verso - Celleneuve
DESCRIPTION:Ateliers d’éveil musical avec Solika Nouchi – Janssens\nPour les enfants de 20 mois à 3 ans et leurs parents ou grands parents.\nImproviser avec les bruits\, les sons\, les rythmes\, utiliser la musique pour le plus grand bien de toutes les générations...
URL:https://www.delaneuche.org/date/animations-musicales-jeudis-des-tout-petits-a-lespace-recto-verso-celleneuve/
CATEGORIES:Animations,Eveil musical
ATTACH;FMTTYPE=image/jpeg:https://www.delaneuche.org/administration/wp-content/uploads/2015/07/ACCORDEON-e1441183740342.jpg
END:VEVENT
END:VCALENDAR