BEGIN:VCALENDAR
VERSION:2.0
PRODID:-//Compagnie Alfred De La Neuche - ECPv6.15.15//NONSGML v1.0//EN
CALSCALE:GREGORIAN
METHOD:PUBLISH
X-ORIGINAL-URL:https://www.delaneuche.org
X-WR-CALDESC:Évènements pour Compagnie Alfred De La Neuche
REFRESH-INTERVAL;VALUE=DURATION:PT1H
X-Robots-Tag:noindex
X-PUBLISHED-TTL:PT1H
BEGIN:VTIMEZONE
TZID:Europe/Paris
BEGIN:DAYLIGHT
TZOFFSETFROM:+0100
TZOFFSETTO:+0200
TZNAME:CEST
DTSTART:20150329T010000
END:DAYLIGHT
BEGIN:STANDARD
TZOFFSETFROM:+0200
TZOFFSETTO:+0100
TZNAME:CET
DTSTART:20151025T010000
END:STANDARD
BEGIN:DAYLIGHT
TZOFFSETFROM:+0100
TZOFFSETTO:+0200
TZNAME:CEST
DTSTART:20160327T010000
END:DAYLIGHT
BEGIN:STANDARD
TZOFFSETFROM:+0200
TZOFFSETTO:+0100
TZNAME:CET
DTSTART:20161030T010000
END:STANDARD
BEGIN:DAYLIGHT
TZOFFSETFROM:+0100
TZOFFSETTO:+0200
TZNAME:CEST
DTSTART:20170326T010000
END:DAYLIGHT
BEGIN:STANDARD
TZOFFSETFROM:+0200
TZOFFSETTO:+0100
TZNAME:CET
DTSTART:20171029T010000
END:STANDARD
END:VTIMEZONE
BEGIN:VEVENT
DTSTART;TZID=Europe/Paris:20160302T103000
DTEND;TZID=Europe/Paris:20160302T113000
DTSTAMP:20260420T154210
CREATED:20151215T092042Z
LAST-MODIFIED:20160307T104250Z
UID:2039-1456914600-1456918200@www.delaneuche.org
SUMMARY:Le Cadeau des Neiges au Festival "Les p'tits Bouts" - Montpellier
DESCRIPTION:Conte poétique et découverte sonore pour les moins de trois ans (existe aussi en version 3/6 ans) \nL’art et la manière de créer son univers avec ses propres moyens\, ses bouts d’ficelle et ses p’tites récup’ avec une grand mère\, un cadeau à recevoir\, et de la neige à inventer… Une histoire drôle et poétique pour les tout petits avec des sons\, des couleurs et des gestes à la mesure de leurs oreilles\, leurs yeux et leur sensibilité. A partager en famille. \nEn savoir plus sur le spectacle
URL:https://www.delaneuche.org/date/le-cadeau-des-neiges-au-festival-les-ptits-bouts/
CATEGORIES:Festival,Spectacles jeune et très jeune public
ATTACH;FMTTYPE=image/jpeg:https://www.delaneuche.org/administration/wp-content/uploads/2015/12/Le-Cadeau-des-neiges-final-2015-copie.jpg
END:VEVENT
BEGIN:VEVENT
DTSTART;TZID=Europe/Paris:20160303T100000
DTEND;TZID=Europe/Paris:20160303T110000
DTSTAMP:20260420T154210
CREATED:20160218T130539Z
LAST-MODIFIED:20160308T144730Z
UID:2142-1456999200-1457002800@www.delaneuche.org
SUMMARY:Animation musicale "au bord de la rivière" - Médiathèque Kalliopê Magalas
DESCRIPTION:le jeudi 3 mars à 10h00 à la Médiathèque Kalliopê A Magalas \nen savoir plus
URL:https://www.delaneuche.org/date/animation-musicale-au-bord-de-la-riviere/
LOCATION:Médiathèque Kalliopê\, 6 avenue de la Mairie\, Magalas\, 34480\, France
CATEGORIES:Animations
ATTACH;FMTTYPE=image/jpeg:https://www.delaneuche.org/administration/wp-content/uploads/2016/02/atrier154-079-copie.jpg
END:VEVENT
BEGIN:VEVENT
DTSTART;TZID=Europe/Paris:20160309T162416
DTEND;TZID=Europe/Paris:20160309T162416
DTSTAMP:20260420T154210
CREATED:20160128T101307Z
LAST-MODIFIED:20160128T101307Z
UID:2089-1457540656-1457540656@www.delaneuche.org
SUMMARY:Domaine D'O
DESCRIPTION:
URL:https://www.delaneuche.org/date/domaine-do/
END:VEVENT
BEGIN:VEVENT
DTSTART;TZID=Europe/Paris:20160309T162416
DTEND;TZID=Europe/Paris:20160309T162416
DTSTAMP:20260420T154210
CREATED:20160216T090943Z
LAST-MODIFIED:20160216T090943Z
UID:2123-1457540656-1457540656@www.delaneuche.org
SUMMARY:Domaine D'O
DESCRIPTION:
URL:https://www.delaneuche.org/date/domaine-do/
END:VEVENT
BEGIN:VEVENT
DTSTART;TZID=Europe/Paris:20160309T162416
DTEND;TZID=Europe/Paris:20160309T162416
DTSTAMP:20260420T154210
CREATED:20160216T092036Z
LAST-MODIFIED:20160216T092036Z
UID:2127-1457540656-1457540656@www.delaneuche.org
SUMMARY:Domaine D'O
DESCRIPTION:
URL:https://www.delaneuche.org/date/domaine-do/
END:VEVENT
BEGIN:VEVENT
DTSTART;TZID=Europe/Paris:20160309T162416
DTEND;TZID=Europe/Paris:20160309T162416
DTSTAMP:20260420T154210
CREATED:20160216T093726Z
LAST-MODIFIED:20160216T093726Z
UID:2131-1457540656-1457540656@www.delaneuche.org
SUMMARY:Domaine D'O
DESCRIPTION:
URL:https://www.delaneuche.org/date/domaine-do/
END:VEVENT
BEGIN:VEVENT
DTSTART;TZID=Europe/Paris:20160309T162416
DTEND;TZID=Europe/Paris:20160309T162416
DTSTAMP:20260420T154210
CREATED:20160216T095545Z
LAST-MODIFIED:20160216T095545Z
UID:2132-1457540656-1457540656@www.delaneuche.org
SUMMARY:Domaine D'O
DESCRIPTION:
URL:https://www.delaneuche.org/date/domaine-do/
END:VEVENT
BEGIN:VEVENT
DTSTART;TZID=Europe/Paris:20160309T162416
DTEND;TZID=Europe/Paris:20160309T162416
DTSTAMP:20260420T154210
CREATED:20160216T095559Z
LAST-MODIFIED:20160216T095559Z
UID:2133-1457540656-1457540656@www.delaneuche.org
SUMMARY:Domaine D'O
DESCRIPTION:
URL:https://www.delaneuche.org/date/domaine-do/
END:VEVENT
BEGIN:VEVENT
DTSTART;TZID=Europe/Paris:20160309T162416
DTEND;TZID=Europe/Paris:20160309T162416
DTSTAMP:20260420T154210
CREATED:20160216T095641Z
LAST-MODIFIED:20160216T095641Z
UID:2134-1457540656-1457540656@www.delaneuche.org
SUMMARY:Domaine D'O
DESCRIPTION:
URL:https://www.delaneuche.org/date/domaine-do/
END:VEVENT
BEGIN:VEVENT
DTSTART;TZID=Europe/Paris:20160309T162416
DTEND;TZID=Europe/Paris:20160309T162416
DTSTAMP:20260420T154210
CREATED:20160216T095734Z
LAST-MODIFIED:20160216T095734Z
UID:2135-1457540656-1457540656@www.delaneuche.org
SUMMARY:Domaine D'O
DESCRIPTION:
URL:https://www.delaneuche.org/date/domaine-do/
END:VEVENT
BEGIN:VEVENT
DTSTART;TZID=Europe/Paris:20160309T162416
DTEND;TZID=Europe/Paris:20160309T162416
DTSTAMP:20260420T154210
CREATED:20160216T095745Z
LAST-MODIFIED:20160216T095745Z
UID:2136-1457540656-1457540656@www.delaneuche.org
SUMMARY:Domaine D'O
DESCRIPTION:
URL:https://www.delaneuche.org/date/domaine-do/
END:VEVENT
BEGIN:VEVENT
DTSTART;TZID=Europe/Paris:20160309T162416
DTEND;TZID=Europe/Paris:20160309T162416
DTSTAMP:20260420T154210
CREATED:20160216T100338Z
LAST-MODIFIED:20160216T100338Z
UID:2138-1457540656-1457540656@www.delaneuche.org
SUMMARY:Domaine D'O
DESCRIPTION:
URL:https://www.delaneuche.org/date/domaine-do/
END:VEVENT
BEGIN:VEVENT
DTSTART;TZID=Europe/Paris:20160309T162416
DTEND;TZID=Europe/Paris:20160309T162416
DTSTAMP:20260420T154210
CREATED:20160216T101220Z
LAST-MODIFIED:20160216T101220Z
UID:2139-1457540656-1457540656@www.delaneuche.org
SUMMARY:Domaine D'O
DESCRIPTION:
URL:https://www.delaneuche.org/date/domaine-do/
END:VEVENT
BEGIN:VEVENT
DTSTART;TZID=Europe/Paris:20160309T162416
DTEND;TZID=Europe/Paris:20160309T162416
DTSTAMP:20260420T154210
CREATED:20160307T104649Z
LAST-MODIFIED:20160307T104649Z
UID:2157-1457540656-1457540656@www.delaneuche.org
SUMMARY:Domaine D'O
DESCRIPTION:
URL:https://www.delaneuche.org/date/domaine-do/
END:VEVENT
BEGIN:VEVENT
DTSTART;TZID=Europe/Paris:20160309T162416
DTEND;TZID=Europe/Paris:20160309T162416
DTSTAMP:20260420T154210
CREATED:20160307T104713Z
LAST-MODIFIED:20160307T104713Z
UID:2158-1457540656-1457540656@www.delaneuche.org
SUMMARY:Domaine D'O
DESCRIPTION:
URL:https://www.delaneuche.org/date/domaine-do/
END:VEVENT
BEGIN:VEVENT
DTSTART;TZID=Europe/Paris:20160309T162416
DTEND;TZID=Europe/Paris:20160309T162416
DTSTAMP:20260420T154210
CREATED:20160307T104924Z
LAST-MODIFIED:20160307T104924Z
UID:2159-1457540656-1457540656@www.delaneuche.org
SUMMARY:Domaine D'O
DESCRIPTION:
URL:https://www.delaneuche.org/date/domaine-do/
END:VEVENT
BEGIN:VEVENT
DTSTART;TZID=Europe/Paris:20160309T162416
DTEND;TZID=Europe/Paris:20160309T162416
DTSTAMP:20260420T154210
CREATED:20160307T105851Z
LAST-MODIFIED:20160307T105851Z
UID:2161-1457540656-1457540656@www.delaneuche.org
SUMMARY:Domaine D'O
DESCRIPTION:
URL:https://www.delaneuche.org/date/domaine-do/
END:VEVENT
BEGIN:VEVENT
DTSTART;TZID=Europe/Paris:20160309T162416
DTEND;TZID=Europe/Paris:20160309T162416
DTSTAMP:20260420T154210
CREATED:20160307T110123Z
LAST-MODIFIED:20160307T110123Z
UID:2162-1457540656-1457540656@www.delaneuche.org
SUMMARY:Domaine D'O
DESCRIPTION:
URL:https://www.delaneuche.org/date/domaine-do/
END:VEVENT
BEGIN:VEVENT
DTSTART;TZID=Europe/Paris:20160309T162416
DTEND;TZID=Europe/Paris:20160309T162416
DTSTAMP:20260420T154210
CREATED:20160307T110209Z
LAST-MODIFIED:20160307T110209Z
UID:2163-1457540656-1457540656@www.delaneuche.org
SUMMARY:Domaine D'O
DESCRIPTION:
URL:https://www.delaneuche.org/date/domaine-do/
END:VEVENT
BEGIN:VEVENT
DTSTART;TZID=Europe/Paris:20160309T162416
DTEND;TZID=Europe/Paris:20160309T162416
DTSTAMP:20260420T154210
CREATED:20160307T110220Z
LAST-MODIFIED:20160307T110220Z
UID:2164-1457540656-1457540656@www.delaneuche.org
SUMMARY:Domaine D'O
DESCRIPTION:
URL:https://www.delaneuche.org/date/domaine-do/
END:VEVENT
BEGIN:VEVENT
DTSTART;TZID=Europe/Paris:20160309T162416
DTEND;TZID=Europe/Paris:20160309T162416
DTSTAMP:20260420T154210
CREATED:20160308T133628Z
LAST-MODIFIED:20160308T133628Z
UID:2212-1457540656-1457540656@www.delaneuche.org
SUMMARY:Lieu sans nom
DESCRIPTION:
URL:https://www.delaneuche.org/date/lieu-sans-nom/
END:VEVENT
BEGIN:VEVENT
DTSTART;TZID=Europe/Paris:20160309T162416
DTEND;TZID=Europe/Paris:20160309T162416
DTSTAMP:20260420T154210
CREATED:20160308T134851Z
LAST-MODIFIED:20160308T134851Z
UID:2213-1457540656-1457540656@www.delaneuche.org
SUMMARY:Unnamed Organisateur
DESCRIPTION:
URL:https://www.delaneuche.org/date/unnamed-organisateur/
END:VEVENT
BEGIN:VEVENT
DTSTART;TZID=Europe/Paris:20160309T162416
DTEND;TZID=Europe/Paris:20160309T162416
DTSTAMP:20260420T154210
CREATED:20160308T134851Z
LAST-MODIFIED:20160308T134851Z
UID:2214-1457540656-1457540656@www.delaneuche.org
SUMMARY:Lieu sans nom
DESCRIPTION:
URL:https://www.delaneuche.org/date/lieu-sans-nom/
END:VEVENT
BEGIN:VEVENT
DTSTART;TZID=Europe/Paris:20160309T162416
DTEND;TZID=Europe/Paris:20160309T162416
DTSTAMP:20260420T154210
CREATED:20160308T135204Z
LAST-MODIFIED:20160308T135204Z
UID:2216-1457540656-1457540656@www.delaneuche.org
SUMMARY:Lieu sans nom
DESCRIPTION:
URL:https://www.delaneuche.org/date/lieu-sans-nom/
END:VEVENT
BEGIN:VEVENT
DTSTART;TZID=Europe/Paris:20160309T162416
DTEND;TZID=Europe/Paris:20160309T162416
DTSTAMP:20260420T154210
CREATED:20160308T135243Z
LAST-MODIFIED:20160308T135243Z
UID:2217-1457540656-1457540656@www.delaneuche.org
SUMMARY:Lieu sans nom
DESCRIPTION:
URL:https://www.delaneuche.org/date/lieu-sans-nom/
END:VEVENT
BEGIN:VEVENT
DTSTART;TZID=Europe/Paris:20160309T162416
DTEND;TZID=Europe/Paris:20160309T162416
DTSTAMP:20260420T154210
CREATED:20160308T140016Z
LAST-MODIFIED:20160308T140016Z
UID:2219-1457540656-1457540656@www.delaneuche.org
SUMMARY:Lieu sans nom
DESCRIPTION:
URL:https://www.delaneuche.org/date/lieu-sans-nom/
END:VEVENT
BEGIN:VEVENT
DTSTART;TZID=Europe/Paris:20160309T162416
DTEND;TZID=Europe/Paris:20160309T162416
DTSTAMP:20260420T154210
CREATED:20160308T140627Z
LAST-MODIFIED:20160308T140627Z
UID:2221-1457540656-1457540656@www.delaneuche.org
SUMMARY:Lieu sans nom
DESCRIPTION:
URL:https://www.delaneuche.org/date/lieu-sans-nom/
END:VEVENT
BEGIN:VEVENT
DTSTART;TZID=Europe/Paris:20160309T162416
DTEND;TZID=Europe/Paris:20160309T162416
DTSTAMP:20260420T154210
CREATED:20160308T140733Z
LAST-MODIFIED:20160308T140733Z
UID:2222-1457540656-1457540656@www.delaneuche.org
SUMMARY:Lieu sans nom
DESCRIPTION:
URL:https://www.delaneuche.org/date/lieu-sans-nom/
END:VEVENT
BEGIN:VEVENT
DTSTART;TZID=Europe/Paris:20160309T162416
DTEND;TZID=Europe/Paris:20160309T162416
DTSTAMP:20260420T154210
CREATED:20160308T141704Z
LAST-MODIFIED:20160308T141704Z
UID:2224-1457540656-1457540656@www.delaneuche.org
SUMMARY:Parc de la Planchette
DESCRIPTION:
URL:https://www.delaneuche.org/date/parc-de-la-planchette/
END:VEVENT
BEGIN:VEVENT
DTSTART;TZID=Europe/Paris:20160309T162416
DTEND;TZID=Europe/Paris:20160309T162416
DTSTAMP:20260420T154210
CREATED:20160308T143137Z
LAST-MODIFIED:20160308T143137Z
UID:2226-1457540656-1457540656@www.delaneuche.org
SUMMARY:Lieu sans nom
DESCRIPTION:
URL:https://www.delaneuche.org/date/lieu-sans-nom/
END:VEVENT
END:VCALENDAR