BEGIN:VCALENDAR
VERSION:2.0
PRODID:-//Compagnie Alfred De La Neuche - ECPv6.15.15//NONSGML v1.0//EN
CALSCALE:GREGORIAN
METHOD:PUBLISH
X-ORIGINAL-URL:https://www.delaneuche.org
X-WR-CALDESC:Évènements pour Compagnie Alfred De La Neuche
REFRESH-INTERVAL;VALUE=DURATION:PT1H
X-Robots-Tag:noindex
X-PUBLISHED-TTL:PT1H
BEGIN:VTIMEZONE
TZID:Europe/Paris
BEGIN:DAYLIGHT
TZOFFSETFROM:+0100
TZOFFSETTO:+0200
TZNAME:CEST
DTSTART:20150329T010000
END:DAYLIGHT
BEGIN:STANDARD
TZOFFSETFROM:+0200
TZOFFSETTO:+0100
TZNAME:CET
DTSTART:20151025T010000
END:STANDARD
BEGIN:DAYLIGHT
TZOFFSETFROM:+0100
TZOFFSETTO:+0200
TZNAME:CEST
DTSTART:20160327T010000
END:DAYLIGHT
BEGIN:STANDARD
TZOFFSETFROM:+0200
TZOFFSETTO:+0100
TZNAME:CET
DTSTART:20161030T010000
END:STANDARD
BEGIN:DAYLIGHT
TZOFFSETFROM:+0100
TZOFFSETTO:+0200
TZNAME:CEST
DTSTART:20170326T010000
END:DAYLIGHT
BEGIN:STANDARD
TZOFFSETFROM:+0200
TZOFFSETTO:+0100
TZNAME:CET
DTSTART:20171029T010000
END:STANDARD
END:VTIMEZONE
BEGIN:VEVENT
DTSTART;TZID=Europe/Paris:20160206T150000
DTEND;TZID=Europe/Paris:20160206T163000
DTSTAMP:20260420T172031
CREATED:20160128T090438Z
LAST-MODIFIED:20160128T163108Z
UID:2081-1454770800-1454776200@www.delaneuche.org
SUMMARY:Momento spectacle très jeune public
DESCRIPTION:Réservation en ligne : http://www.lesonambule.fr/billetterie/billetterie-en-ligne/ ou par téléphone : 04 67 56 10 32
URL:https://www.delaneuche.org/date/momento-spectacle-tres-jeune-public/
LOCATION:Sonambule\, Gignac
ATTACH;FMTTYPE=image/png:https://www.delaneuche.org/administration/wp-content/uploads/2016/01/Capture-d’écran-2016-01-28-à-10.09.25.png
END:VEVENT
BEGIN:VEVENT
DTSTART;TZID=Europe/Paris:20160219T153000
DTEND;TZID=Europe/Paris:20160219T173000
DTSTAMP:20260420T172031
CREATED:20160104T163312Z
LAST-MODIFIED:20160307T104250Z
UID:2068-1455895800-1455903000@www.delaneuche.org
SUMMARY:Le Cadeau des Neiges au Sonambule à Gignac
DESCRIPTION:Conte poétique et découverte sonore pour les moins de trois ans (existe aussi en version 3/6 ans) \nL’art et la manière de créer son univers avec ses propres moyens\, ses bouts d’ficelle et ses p’tites récup’ avec une grand mère\, un cadeau à recevoir\, et de la neige à inventer… Une histoire drôle et poétique pour les tout petits avec des sons\, des couleurs et des gestes à la mesure de leurs oreilles\, leurs yeux et leur sensibilité. A partager en famille. \nen savoir plus
URL:https://www.delaneuche.org/date/le-cadeau-des-neiges-au-sonambule-a-gignac/
LOCATION:Sonambule\, Gignac
ATTACH;FMTTYPE=image/jpeg:https://www.delaneuche.org/administration/wp-content/uploads/2014/12/Le-Cadeau-des-neiges-final-sans-blabla-e1418141130672.jpg
END:VEVENT
END:VCALENDAR