BEGIN:VCALENDAR
VERSION:2.0
PRODID:-//Compagnie Alfred De La Neuche - ECPv6.15.15//NONSGML v1.0//EN
CALSCALE:GREGORIAN
METHOD:PUBLISH
X-ORIGINAL-URL:https://www.delaneuche.org
X-WR-CALDESC:Évènements pour Compagnie Alfred De La Neuche
REFRESH-INTERVAL;VALUE=DURATION:PT1H
X-Robots-Tag:noindex
X-PUBLISHED-TTL:PT1H
BEGIN:VTIMEZONE
TZID:Europe/Paris
BEGIN:DAYLIGHT
TZOFFSETFROM:+0100
TZOFFSETTO:+0200
TZNAME:CEST
DTSTART:20150329T010000
END:DAYLIGHT
BEGIN:STANDARD
TZOFFSETFROM:+0200
TZOFFSETTO:+0100
TZNAME:CET
DTSTART:20151025T010000
END:STANDARD
BEGIN:DAYLIGHT
TZOFFSETFROM:+0100
TZOFFSETTO:+0200
TZNAME:CEST
DTSTART:20160327T010000
END:DAYLIGHT
BEGIN:STANDARD
TZOFFSETFROM:+0200
TZOFFSETTO:+0100
TZNAME:CET
DTSTART:20161030T010000
END:STANDARD
BEGIN:DAYLIGHT
TZOFFSETFROM:+0100
TZOFFSETTO:+0200
TZNAME:CEST
DTSTART:20170326T010000
END:DAYLIGHT
BEGIN:STANDARD
TZOFFSETFROM:+0200
TZOFFSETTO:+0100
TZNAME:CET
DTSTART:20171029T010000
END:STANDARD
END:VTIMEZONE
BEGIN:VEVENT
DTSTART;TZID=Europe/Paris:20160120T103000
DTEND;TZID=Europe/Paris:20160120T113000
DTSTAMP:20260420T184945
CREATED:20151130T133245Z
LAST-MODIFIED:20151217T100619Z
UID:1989-1453285800-1453289400@www.delaneuche.org
SUMMARY:Grand-mère Takata et la fabrique d'instruments à la Médiathèque Simone Veil - Marguerittes
DESCRIPTION:Grand Mère Takata doit fabriquer des instruments. Mais aujourd’hui\, impossible pour elle de travailler. Alors on inverse les rôles : c’est le public qui  fabrique les instruments avec les tout-petits\, propose comptines et chansons\,  construit le spectacle… Un moment d’échange et de partage pour tous ! 
URL:https://www.delaneuche.org/date/grand-mere-takata-et-la-fabrique-dinstruments-a-la-medithequesimone-veil-a-marguerittes/
ATTACH;FMTTYPE=image/jpeg:https://www.delaneuche.org/administration/wp-content/uploads/2015/11/fleur-accordéon-gmt-et-le-jardin.jpg
END:VEVENT
END:VCALENDAR