BEGIN:VCALENDAR
VERSION:2.0
PRODID:-//Compagnie Alfred De La Neuche - ECPv6.15.15//NONSGML v1.0//EN
CALSCALE:GREGORIAN
METHOD:PUBLISH
X-ORIGINAL-URL:https://www.delaneuche.org
X-WR-CALDESC:Évènements pour Compagnie Alfred De La Neuche
REFRESH-INTERVAL;VALUE=DURATION:PT1H
X-Robots-Tag:noindex
X-PUBLISHED-TTL:PT1H
BEGIN:VTIMEZONE
TZID:Europe/Paris
BEGIN:DAYLIGHT
TZOFFSETFROM:+0100
TZOFFSETTO:+0200
TZNAME:CEST
DTSTART:20140330T010000
END:DAYLIGHT
BEGIN:STANDARD
TZOFFSETFROM:+0200
TZOFFSETTO:+0100
TZNAME:CET
DTSTART:20141026T010000
END:STANDARD
BEGIN:DAYLIGHT
TZOFFSETFROM:+0100
TZOFFSETTO:+0200
TZNAME:CEST
DTSTART:20150329T010000
END:DAYLIGHT
BEGIN:STANDARD
TZOFFSETFROM:+0200
TZOFFSETTO:+0100
TZNAME:CET
DTSTART:20151025T010000
END:STANDARD
BEGIN:DAYLIGHT
TZOFFSETFROM:+0100
TZOFFSETTO:+0200
TZNAME:CEST
DTSTART:20160327T010000
END:DAYLIGHT
BEGIN:STANDARD
TZOFFSETFROM:+0200
TZOFFSETTO:+0100
TZNAME:CET
DTSTART:20161030T010000
END:STANDARD
END:VTIMEZONE
BEGIN:VEVENT
DTSTART;TZID=Europe/Paris:20151201T103000
DTEND;TZID=Europe/Paris:20151201T113000
DTSTAMP:20260420T201228
CREATED:20151130T132733Z
LAST-MODIFIED:20151130T154239Z
UID:1988-1448965800-1448969400@www.delaneuche.org
SUMMARY:Le Cadeau de Neiges à la bibliothèque de Paulhan
DESCRIPTION:Conte poétique et découverte sonore pour les moins de trois ans (existe aussi en version 3/6 ans) \nL’art et la manière de créer son univers avec ses propres moyens\, ses bouts d’ficelle et ses p’tites récup’ avec une grand mère\, un cadeau à recevoir\, et de la neige à inventer… Une histoire drôle et poétique pour les tout petits avec des sons\, des couleurs et des gestes à la mesure de leurs oreilles\, leurs yeux et leur sensibilité. A partager en famille. \nEn savoir plus sur le spectacle
URL:https://www.delaneuche.org/date/le-cadeau-de-neiges-a-la-bibliotheque-de-paulhan/
ATTACH;FMTTYPE=image/jpeg:https://www.delaneuche.org/administration/wp-content/uploads/2014/12/Le-Cadeau-des-neiges-final-sans-blabla-e1418141130672.jpg
END:VEVENT
BEGIN:VEVENT
DTSTART;TZID=Europe/Paris:20151209T163000
DTEND;TZID=Europe/Paris:20151209T173000
DTSTAMP:20260420T201228
CREATED:20151130T132511Z
LAST-MODIFIED:20151130T152703Z
UID:1987-1449678600-1449682200@www.delaneuche.org
SUMMARY:Les P'tits Bobos à la Cavalerie
DESCRIPTION:Quand on a un p’tit bobo\, c’est pas toujours rigolo. Mais à la boutique de Madame Fenouil et de Pomadine\, les p’tits bobos s’en vont\,  emportés par la… magie ? musique ? chansons ? potions ? sourires ? amour ? rire ? allez savoir… \nen savoir plus sur le spectacle
URL:https://www.delaneuche.org/date/les-ptits-bobos-a-la-cavalerie/
CATEGORIES:Spectacles jeune et très jeune public
ATTACH;FMTTYPE=image/jpeg:https://www.delaneuche.org/administration/wp-content/uploads/2014/01/ptitsbobos.jpg
END:VEVENT
BEGIN:VEVENT
DTSTART;TZID=Europe/Paris:20151210T103000
DTEND;TZID=Europe/Paris:20151210T113000
DTSTAMP:20260420T201228
CREATED:20151130T103656Z
LAST-MODIFIED:20151130T152607Z
UID:1967-1449743400-1449747000@www.delaneuche.org
SUMMARY:Le cadeau des neiges à la bibliothèque de Clermont l'Hérault
DESCRIPTION:Conte poétique et découverte sonore pour les moins de trois ans (existe aussi en version 3/6 ans) \nL’art et la manière de créer son univers avec ses propres moyens\, ses bouts d’ficelle et ses p’tites récup’ avec une grand mère\, un cadeau à recevoir\, et de la neige à inventer… Une histoire drôle et poétique pour les tout petits avec des sons\, des couleurs et des gestes à la mesure de leurs oreilles\, leurs yeux et leur sensibilité. A partager en famille. \nEn savoir plus sur le spectacle
URL:https://www.delaneuche.org/date/le-cadeau-des-neiges-a-la-bibliotheque-de-clermont-lherault/
ATTACH;FMTTYPE=image/jpeg:https://www.delaneuche.org/administration/wp-content/uploads/2014/12/Le-Cadeau-des-neiges-final-sans-blabla-e1418141130672.jpg
END:VEVENT
BEGIN:VEVENT
DTSTART;TZID=Europe/Paris:20151211T100000
DTEND;TZID=Europe/Paris:20151211T170000
DTSTAMP:20260420T201228
CREATED:20151130T130545Z
LAST-MODIFIED:20151130T152520Z
UID:1983-1449828000-1449853200@www.delaneuche.org
SUMMARY:Le Cadeau des Neiges à l'école maternelle de Canet
DESCRIPTION:Conte poétique et découverte sonore pour les moins de trois ans (existe aussi en version 3/6 ans) \nL’art et la manière de créer son univers avec ses propres moyens\, ses bouts d’ficelle et ses p’tites récup’ avec une grand mère\, un cadeau à recevoir\, et de la neige à inventer… Une histoire drôle et poétique pour les tout petits avec des sons\, des couleurs et des gestes à la mesure de leurs oreilles\, leurs yeux et leur sensibilité. A partager en famille. \nEn savoir plus sur le spectacle
URL:https://www.delaneuche.org/date/le-cadeau-des-neiges-a-lecole-maternelle-de-canet/
CATEGORIES:Spectacles jeune et très jeune public
ATTACH;FMTTYPE=image/jpeg:https://www.delaneuche.org/administration/wp-content/uploads/2014/12/Le-Cadeau-des-neiges-final-sans-blabla-e1418141130672.jpg
END:VEVENT
BEGIN:VEVENT
DTSTART;TZID=Europe/Paris:20151218T150000
DTEND;TZID=Europe/Paris:20151218T160000
DTSTAMP:20260420T201228
CREATED:20151130T130903Z
LAST-MODIFIED:20151130T152434Z
UID:1985-1450450800-1450454400@www.delaneuche.org
SUMMARY:Le Cadeau des Neiges à la crèche d'aspiran
DESCRIPTION:Conte poétique et découverte sonore pour les moins de trois ans (existe aussi en version 3/6 ans) \nL’art et la manière de créer son univers avec ses propres moyens\, ses bouts d’ficelle et ses p’tites récup’ avec une grand mère\, un cadeau à recevoir\, et de la neige à inventer… Une histoire drôle et poétique pour les tout petits avec des sons\, des couleurs et des gestes à la mesure de leurs oreilles\, leurs yeux et leur sensibilité. A partager en famille. \nEn savoir plus sur le spectacle
URL:https://www.delaneuche.org/date/le-cadeau-des-neiges-a-la-creche-daspiran/
ATTACH;FMTTYPE=image/jpeg:https://www.delaneuche.org/administration/wp-content/uploads/2014/12/Le-Cadeau-des-neiges-final-sans-blabla-e1418141130672.jpg
END:VEVENT
BEGIN:VEVENT
DTSTART;TZID=Europe/Paris:20151222T103000
DTEND;TZID=Europe/Paris:20151222T113000
DTSTAMP:20260420T201228
CREATED:20151130T131139Z
LAST-MODIFIED:20151217T100639Z
UID:1986-1450780200-1450783800@www.delaneuche.org
SUMMARY:Le Cadeau des neiges à la maison pour tous Boris Vian - Montpellier
DESCRIPTION:Conte poétique et découverte sonore pour les moins de trois ans (existe aussi en version 3/6 ans) \nL’art et la manière de créer son univers avec ses propres moyens\, ses bouts d’ficelle et ses p’tites récup’ avec une grand mère\, un cadeau à recevoir\, et de la neige à inventer… Une histoire drôle et poétique pour les tout petits avec des sons\, des couleurs et des gestes à la mesure de leurs oreilles\, leurs yeux et leur sensibilité. A partager en famille. \nEn savoir plus sur le spectacle
URL:https://www.delaneuche.org/date/le-cadeau-des-neiges-a-la-maison-pour-tous-boris-vian-a-montpellier/
CATEGORIES:Spectacles jeune et très jeune public
ATTACH;FMTTYPE=image/jpeg:https://www.delaneuche.org/administration/wp-content/uploads/2014/12/Le-Cadeau-des-neiges-final-sans-blabla-e1418141130672.jpg
END:VEVENT
END:VCALENDAR