BEGIN:VCALENDAR
VERSION:2.0
PRODID:-//Compagnie Alfred De La Neuche - ECPv6.15.15//NONSGML v1.0//EN
CALSCALE:GREGORIAN
METHOD:PUBLISH
X-ORIGINAL-URL:https://www.delaneuche.org
X-WR-CALDESC:Évènements pour Compagnie Alfred De La Neuche
REFRESH-INTERVAL;VALUE=DURATION:PT1H
X-Robots-Tag:noindex
X-PUBLISHED-TTL:PT1H
BEGIN:VTIMEZONE
TZID:Europe/Paris
BEGIN:DAYLIGHT
TZOFFSETFROM:+0100
TZOFFSETTO:+0200
TZNAME:CEST
DTSTART:20140330T010000
END:DAYLIGHT
BEGIN:STANDARD
TZOFFSETFROM:+0200
TZOFFSETTO:+0100
TZNAME:CET
DTSTART:20141026T010000
END:STANDARD
BEGIN:DAYLIGHT
TZOFFSETFROM:+0100
TZOFFSETTO:+0200
TZNAME:CEST
DTSTART:20150329T010000
END:DAYLIGHT
BEGIN:STANDARD
TZOFFSETFROM:+0200
TZOFFSETTO:+0100
TZNAME:CET
DTSTART:20151025T010000
END:STANDARD
BEGIN:DAYLIGHT
TZOFFSETFROM:+0100
TZOFFSETTO:+0200
TZNAME:CEST
DTSTART:20160327T010000
END:DAYLIGHT
BEGIN:STANDARD
TZOFFSETFROM:+0200
TZOFFSETTO:+0100
TZNAME:CET
DTSTART:20161030T010000
END:STANDARD
END:VTIMEZONE
BEGIN:VEVENT
DTSTART;TZID=Europe/Paris:20151124T080000
DTEND;TZID=Europe/Paris:20151127T170000
DTSTAMP:20260420T214244
CREATED:20151130T150326Z
LAST-MODIFIED:20151130T153933Z
UID:2011-1448352000-1448643600@www.delaneuche.org
SUMMARY:Ateliers récup' et animation musicale dans le cadre de la semaine européenne de la gestion des déchets
DESCRIPTION:Gigean le mardi 24 novembre  Sète le mercredi 25 novembre\, et Balaruc le vendredi 26 novembre. Avec ateliers de fabrication d’instruments (sauf vendredi)\, soupe de fanes de carottes et radis (délicieuse)\, accessoires mode et objets divers de récupération. Et\, en plus\, une animation « maison » chansons et accordéon par Solika. Le tout organisé par Thau Agglo et coordonné par l’association lodévoise « Parsemila » \nen savoir plus sur la manifestation
URL:https://www.delaneuche.org/date/ateliers-fabrication-dinstruments-et-animation-musicale-dans-le-cadre-de-la-semaine-europeenne-de-la-gestion-des-dechets/
CATEGORIES:Ateliers de fabrication d'instruments
END:VEVENT
END:VCALENDAR