BEGIN:VCALENDAR
VERSION:2.0
PRODID:-//Compagnie Alfred De La Neuche - ECPv6.15.15//NONSGML v1.0//EN
CALSCALE:GREGORIAN
METHOD:PUBLISH
X-ORIGINAL-URL:https://www.delaneuche.org
X-WR-CALDESC:Évènements pour Compagnie Alfred De La Neuche
REFRESH-INTERVAL;VALUE=DURATION:PT1H
X-Robots-Tag:noindex
X-PUBLISHED-TTL:PT1H
BEGIN:VTIMEZONE
TZID:Europe/Paris
BEGIN:DAYLIGHT
TZOFFSETFROM:+0100
TZOFFSETTO:+0200
TZNAME:CEST
DTSTART:20140330T010000
END:DAYLIGHT
BEGIN:STANDARD
TZOFFSETFROM:+0200
TZOFFSETTO:+0100
TZNAME:CET
DTSTART:20141026T010000
END:STANDARD
BEGIN:DAYLIGHT
TZOFFSETFROM:+0100
TZOFFSETTO:+0200
TZNAME:CEST
DTSTART:20150329T010000
END:DAYLIGHT
BEGIN:STANDARD
TZOFFSETFROM:+0200
TZOFFSETTO:+0100
TZNAME:CET
DTSTART:20151025T010000
END:STANDARD
BEGIN:DAYLIGHT
TZOFFSETFROM:+0100
TZOFFSETTO:+0200
TZNAME:CEST
DTSTART:20160327T010000
END:DAYLIGHT
BEGIN:STANDARD
TZOFFSETFROM:+0200
TZOFFSETTO:+0100
TZNAME:CET
DTSTART:20161030T010000
END:STANDARD
END:VTIMEZONE
BEGIN:VEVENT
DTSTART;TZID=Europe/Paris:20150925T093000
DTEND;TZID=Europe/Paris:20150926T173000
DTSTAMP:20260421T010908
CREATED:20150825T093438Z
LAST-MODIFIED:20151113T135423Z
UID:1762-1443173400-1443288600@www.delaneuche.org
SUMMARY:Festibébés 2015
DESCRIPTION:Cette année\, le festival est placé sous le signe « de la musique\, de la chanson et des comptines » avec Michèle Bernard comme marraine « côté artiste ». \nDes extraits de ses chansons jalonneront le parc et vous pourrez la rencontrer le samedi lors d’une rencontre autour de la chanson et d’un concert dans le chai. \nDepuis la création du Festibébés\, Christine Attali Marot\, marraine « côté petite enfance » nous offre son regard bienveillant et prodigue ses conseils avisés pour la préparation de cet événement. Elle sera présente sur les deux jours\, pour notre plus grand bonheur. \nPlus d’infos ici
URL:https://www.delaneuche.org/date/festibebes-2015/
LOCATION:Domaine de Trois Fontaines\, Le Pouget\, France
CATEGORIES:Animations,Ateliers de fabrication d'instruments,Ateliers maquettes,Festival,Le jardin sonore,Le village sensoriel,Spectacles jeune et très jeune public
ATTACH;FMTTYPE=image/jpeg:https://www.delaneuche.org/administration/wp-content/uploads/2015/08/Festibebes2015-def-web.jpg
ORGANIZER;CN="Cie Alfred de la neuche":MAILTO:a.delaneuche@gmail.com 
END:VEVENT
END:VCALENDAR