BEGIN:VCALENDAR
VERSION:2.0
PRODID:-//Compagnie Alfred De La Neuche - ECPv6.15.15//NONSGML v1.0//EN
CALSCALE:GREGORIAN
METHOD:PUBLISH
X-ORIGINAL-URL:https://www.delaneuche.org
X-WR-CALDESC:Évènements pour Compagnie Alfred De La Neuche
REFRESH-INTERVAL;VALUE=DURATION:PT1H
X-Robots-Tag:noindex
X-PUBLISHED-TTL:PT1H
BEGIN:VTIMEZONE
TZID:Europe/Paris
BEGIN:DAYLIGHT
TZOFFSETFROM:+0100
TZOFFSETTO:+0200
TZNAME:CEST
DTSTART:20140330T010000
END:DAYLIGHT
BEGIN:STANDARD
TZOFFSETFROM:+0200
TZOFFSETTO:+0100
TZNAME:CET
DTSTART:20141026T010000
END:STANDARD
BEGIN:DAYLIGHT
TZOFFSETFROM:+0100
TZOFFSETTO:+0200
TZNAME:CEST
DTSTART:20150329T010000
END:DAYLIGHT
BEGIN:STANDARD
TZOFFSETFROM:+0200
TZOFFSETTO:+0100
TZNAME:CET
DTSTART:20151025T010000
END:STANDARD
BEGIN:DAYLIGHT
TZOFFSETFROM:+0100
TZOFFSETTO:+0200
TZNAME:CEST
DTSTART:20160327T010000
END:DAYLIGHT
BEGIN:STANDARD
TZOFFSETFROM:+0200
TZOFFSETTO:+0100
TZNAME:CET
DTSTART:20161030T010000
END:STANDARD
END:VTIMEZONE
BEGIN:VEVENT
DTSTART;TZID=Europe/Paris:20150718T150000
DTEND;TZID=Europe/Paris:20150819T183000
DTSTAMP:20260421T023502
CREATED:20150615T140643Z
LAST-MODIFIED:20150615T140656Z
UID:1666-1437231600-1440009000@www.delaneuche.org
SUMMARY:Le jardin sonore en Haute Savoie
DESCRIPTION:Le jardin Sonore d’Alfred sera : \nau Festival de la Musique Mécanique aux Gets (Haute Savoie) les 18 et 19 Juillet
URL:https://www.delaneuche.org/date/le-jardin-sonore-en-haute-savoie/
CATEGORIES:Festival,Le jardin sonore
ATTACH;FMTTYPE=image/jpeg:https://www.delaneuche.org/administration/wp-content/uploads/2015/06/farandole-nimes.jpg
END:VEVENT
BEGIN:VEVENT
DTSTART;TZID=Europe/Paris:20150810T100000
DTEND;TZID=Europe/Paris:20150811T170000
DTSTAMP:20260421T023502
CREATED:20150615T141330Z
LAST-MODIFIED:20150615T141831Z
UID:1668-1439200800-1439312400@www.delaneuche.org
SUMMARY:Le jardin sonore au Lounge Music Festival aux Gets
DESCRIPTION:Le jardin Sonore d’Alfred sera : \nau Lounge Music Festival aux Gets les 10 et 11 aout avec ateliers de fabrication d’instruments sonores
URL:https://www.delaneuche.org/date/le-jardin-sonore-au-lounge-music-festival-aux-gets/
CATEGORIES:Ateliers de fabrication d'instruments,Festival,Le jardin sonore
ATTACH;FMTTYPE=image/jpeg:https://www.delaneuche.org/administration/wp-content/uploads/2015/03/festitente-e1434357401598.jpg
END:VEVENT
END:VCALENDAR