BEGIN:VCALENDAR
VERSION:2.0
PRODID:-//Compagnie Alfred De La Neuche - ECPv6.15.15//NONSGML v1.0//EN
CALSCALE:GREGORIAN
METHOD:PUBLISH
X-WR-CALNAME:Compagnie Alfred De La Neuche
X-ORIGINAL-URL:https://www.delaneuche.org
X-WR-CALDESC:Évènements pour Compagnie Alfred De La Neuche
REFRESH-INTERVAL;VALUE=DURATION:PT1H
X-Robots-Tag:noindex
X-PUBLISHED-TTL:PT1H
BEGIN:VTIMEZONE
TZID:Europe/Paris
BEGIN:DAYLIGHT
TZOFFSETFROM:+0100
TZOFFSETTO:+0200
TZNAME:CEST
DTSTART:20140330T010000
END:DAYLIGHT
BEGIN:STANDARD
TZOFFSETFROM:+0200
TZOFFSETTO:+0100
TZNAME:CET
DTSTART:20141026T010000
END:STANDARD
BEGIN:DAYLIGHT
TZOFFSETFROM:+0100
TZOFFSETTO:+0200
TZNAME:CEST
DTSTART:20150329T010000
END:DAYLIGHT
BEGIN:STANDARD
TZOFFSETFROM:+0200
TZOFFSETTO:+0100
TZNAME:CET
DTSTART:20151025T010000
END:STANDARD
BEGIN:DAYLIGHT
TZOFFSETFROM:+0100
TZOFFSETTO:+0200
TZNAME:CEST
DTSTART:20160327T010000
END:DAYLIGHT
BEGIN:STANDARD
TZOFFSETFROM:+0200
TZOFFSETTO:+0100
TZNAME:CET
DTSTART:20161030T010000
END:STANDARD
END:VTIMEZONE
BEGIN:VEVENT
DTSTART;TZID=Europe/Paris:20150702T183000
DTEND;TZID=Europe/Paris:20150702T203000
DTSTAMP:20260421T035352
CREATED:20150615T135728Z
LAST-MODIFIED:20150615T135728Z
UID:1664-1435861800-1435869000@www.delaneuche.org
SUMMARY:Le jardin Sonore à St Bauzille de la Sylve
DESCRIPTION:Le jardin Sonore d’Alfred sera : \naux Nuits Couleurs à Saint Bauzille de la Sylve le 2 Juillet \n 
URL:https://www.delaneuche.org/date/le-jardin-sonore-a-st-bauzille-de-la-sylve/
CATEGORIES:Festival,Le jardin sonore
ATTACH;FMTTYPE=image/jpeg:https://www.delaneuche.org/administration/wp-content/uploads/2015/06/farandole-nimes.jpg
END:VEVENT
BEGIN:VEVENT
DTSTART;VALUE=DATE:20150705
DTEND;VALUE=DATE:20150706
DTSTAMP:20260421T035352
CREATED:20150615T140102Z
LAST-MODIFIED:20150615T140102Z
UID:1665-1436054400-1436140799@www.delaneuche.org
SUMMARY:Le jardin sonore au Festidrôle (Gers)
DESCRIPTION:Le jardin Sonore d’Alfred sera : \nau Festidrôle à Simorre dans le Gers le 5 juillet avec le village sensoriel pour les bébés \n 
URL:https://www.delaneuche.org/date/le-jardin-sonore-au-festidrole-gers/
CATEGORIES:Festival,Le jardin sonore,Le village sensoriel
ATTACH;FMTTYPE=image/jpeg:https://www.delaneuche.org/administration/wp-content/uploads/2014/01/village-sensoriel-cie-delaneuche-2.jpg
END:VEVENT
BEGIN:VEVENT
DTSTART;TZID=Europe/Paris:20150718T150000
DTEND;TZID=Europe/Paris:20150819T183000
DTSTAMP:20260421T035352
CREATED:20150615T140643Z
LAST-MODIFIED:20150615T140656Z
UID:1666-1437231600-1440009000@www.delaneuche.org
SUMMARY:Le jardin sonore en Haute Savoie
DESCRIPTION:Le jardin Sonore d’Alfred sera : \nau Festival de la Musique Mécanique aux Gets (Haute Savoie) les 18 et 19 Juillet
URL:https://www.delaneuche.org/date/le-jardin-sonore-en-haute-savoie/
CATEGORIES:Festival,Le jardin sonore
ATTACH;FMTTYPE=image/jpeg:https://www.delaneuche.org/administration/wp-content/uploads/2015/06/farandole-nimes.jpg
END:VEVENT
BEGIN:VEVENT
DTSTART;TZID=Europe/Paris:20150725T103000
DTEND;TZID=Europe/Paris:20150726T180000
DTSTAMP:20260421T035352
CREATED:20150615T141021Z
LAST-MODIFIED:20150615T141021Z
UID:1667-1437820200-1437933600@www.delaneuche.org
SUMMARY:Le jardin sonore en Suisse
DESCRIPTION:Le jardin Sonore d’Alfred sera : \nau Festival « Au Pays des enfants » au Château d’Oex en Suisse les 25 et 26 Juillet avec des ateliers de fabrication d’instruments
URL:https://www.delaneuche.org/date/le-jardin-sonore-en-suisse/
CATEGORIES:Ateliers de fabrication d'instruments,Festival,Le jardin sonore
ATTACH;FMTTYPE=image/jpeg:https://www.delaneuche.org/administration/wp-content/uploads/2015/06/farandole-nimes.jpg
END:VEVENT
END:VCALENDAR