BEGIN:VCALENDAR
VERSION:2.0
PRODID:-//Compagnie Alfred De La Neuche - ECPv6.15.15//NONSGML v1.0//EN
CALSCALE:GREGORIAN
METHOD:PUBLISH
X-WR-CALNAME:Compagnie Alfred De La Neuche
X-ORIGINAL-URL:https://www.delaneuche.org
X-WR-CALDESC:Évènements pour Compagnie Alfred De La Neuche
REFRESH-INTERVAL;VALUE=DURATION:PT1H
X-Robots-Tag:noindex
X-PUBLISHED-TTL:PT1H
BEGIN:VTIMEZONE
TZID:Europe/Paris
BEGIN:DAYLIGHT
TZOFFSETFROM:+0100
TZOFFSETTO:+0200
TZNAME:CEST
DTSTART:20140330T010000
END:DAYLIGHT
BEGIN:STANDARD
TZOFFSETFROM:+0200
TZOFFSETTO:+0100
TZNAME:CET
DTSTART:20141026T010000
END:STANDARD
BEGIN:DAYLIGHT
TZOFFSETFROM:+0100
TZOFFSETTO:+0200
TZNAME:CEST
DTSTART:20150329T010000
END:DAYLIGHT
BEGIN:STANDARD
TZOFFSETFROM:+0200
TZOFFSETTO:+0100
TZNAME:CET
DTSTART:20151025T010000
END:STANDARD
BEGIN:DAYLIGHT
TZOFFSETFROM:+0100
TZOFFSETTO:+0200
TZNAME:CEST
DTSTART:20160327T010000
END:DAYLIGHT
BEGIN:STANDARD
TZOFFSETFROM:+0200
TZOFFSETTO:+0100
TZNAME:CET
DTSTART:20161030T010000
END:STANDARD
END:VTIMEZONE
BEGIN:VEVENT
DTSTART;TZID=Europe/Paris:20150620T100000
DTEND;TZID=Europe/Paris:20150621T180000
DTSTAMP:20260421T050707
CREATED:20150423T164131Z
LAST-MODIFIED:20150615T134957Z
UID:1630-1434794400-1434909600@www.delaneuche.org
SUMMARY:Le jardin sonore en Suisse
DESCRIPTION:Le jardin Sonore d’Alfred sera : \nau Diabolo Festival  à Morges en Suisse les 20 et 21 Juin avec des ateliers de fabrication d’instruments \n 
URL:https://www.delaneuche.org/date/le-jardin-sonore-en-tournee/
CATEGORIES:Festival,Le jardin sonore
END:VEVENT
BEGIN:VEVENT
DTSTART;VALUE=DATE:20150624
DTEND;VALUE=DATE:20150625
DTSTAMP:20260421T050707
CREATED:20150615T135151Z
LAST-MODIFIED:20150615T135333Z
UID:1662-1435104000-1435190399@www.delaneuche.org
SUMMARY:Le Jardin sonore à Montpellier
DESCRIPTION:Le jardin Sonore d’Alfred sera : \nPour la fête des Ram de Montpellier\, Sur l’Esplanade à Montpellier  le 24 juin\, toute la journée
URL:https://www.delaneuche.org/date/le-jardin-sonore/
CATEGORIES:Le jardin sonore
ATTACH;FMTTYPE=image/jpeg:https://www.delaneuche.org/administration/wp-content/uploads/2015/06/farandole-nimes.jpg
END:VEVENT
END:VCALENDAR