BEGIN:VCALENDAR
VERSION:2.0
PRODID:-//Compagnie Alfred De La Neuche - ECPv6.15.15//NONSGML v1.0//EN
CALSCALE:GREGORIAN
METHOD:PUBLISH
X-WR-CALNAME:Compagnie Alfred De La Neuche
X-ORIGINAL-URL:https://www.delaneuche.org
X-WR-CALDESC:Évènements pour Compagnie Alfred De La Neuche
REFRESH-INTERVAL;VALUE=DURATION:PT1H
X-Robots-Tag:noindex
X-PUBLISHED-TTL:PT1H
BEGIN:VTIMEZONE
TZID:Europe/Paris
BEGIN:DAYLIGHT
TZOFFSETFROM:+0100
TZOFFSETTO:+0200
TZNAME:CEST
DTSTART:20140330T010000
END:DAYLIGHT
BEGIN:STANDARD
TZOFFSETFROM:+0200
TZOFFSETTO:+0100
TZNAME:CET
DTSTART:20141026T010000
END:STANDARD
BEGIN:DAYLIGHT
TZOFFSETFROM:+0100
TZOFFSETTO:+0200
TZNAME:CEST
DTSTART:20150329T010000
END:DAYLIGHT
BEGIN:STANDARD
TZOFFSETFROM:+0200
TZOFFSETTO:+0100
TZNAME:CET
DTSTART:20151025T010000
END:STANDARD
BEGIN:DAYLIGHT
TZOFFSETFROM:+0100
TZOFFSETTO:+0200
TZNAME:CEST
DTSTART:20160327T010000
END:DAYLIGHT
BEGIN:STANDARD
TZOFFSETFROM:+0200
TZOFFSETTO:+0100
TZNAME:CET
DTSTART:20161030T010000
END:STANDARD
END:VTIMEZONE
BEGIN:VEVENT
DTSTART;VALUE=DATE:20150404
DTEND;VALUE=DATE:20150405
DTSTAMP:20260421T080025
CREATED:20150325T004825Z
LAST-MODIFIED:20150325T004825Z
UID:1455-1428105600-1428191999@www.delaneuche.org
SUMMARY:Animation à Grabels (Carnaval)
DESCRIPTION:
URL:https://www.delaneuche.org/date/animation-a-grabels-carnaval/
CATEGORIES:Animations
ORGANIZER;CN="Cie Alfred de la neuche":MAILTO:a.delaneuche@gmail.com 
END:VEVENT
BEGIN:VEVENT
DTSTART;VALUE=DATE:20150409
DTEND;VALUE=DATE:20150410
DTSTAMP:20260421T080025
CREATED:20150325T070407Z
LAST-MODIFIED:20150325T070407Z
UID:1597-1428537600-1428623999@www.delaneuche.org
SUMMARY:Bricolette et Bricola à la médiathèque de Clermont l'Hérault
DESCRIPTION:
URL:https://www.delaneuche.org/date/bricolette-et-bricola-a-la-mediatheque-de-clermont-lherault/
CATEGORIES:Animations
END:VEVENT
BEGIN:VEVENT
DTSTART;VALUE=DATE:20150414
DTEND;VALUE=DATE:20150417
DTSTAMP:20260421T080025
CREATED:20150325T070327Z
LAST-MODIFIED:20150325T070327Z
UID:1596-1428969600-1429228799@www.delaneuche.org
SUMMARY:le jardin sonore au festival Vice &Versa à Bourg de Péage (26)
DESCRIPTION:
URL:https://www.delaneuche.org/date/le-jardin-sonore-au-festival-vice-versa-a-bourg-de-peage-26/
CATEGORIES:Le jardin sonore
END:VEVENT
END:VCALENDAR