BEGIN:VCALENDAR
VERSION:2.0
PRODID:-//Compagnie Alfred De La Neuche - ECPv6.15.15//NONSGML v1.0//EN
CALSCALE:GREGORIAN
METHOD:PUBLISH
X-WR-CALNAME:Compagnie Alfred De La Neuche
X-ORIGINAL-URL:https://www.delaneuche.org
X-WR-CALDESC:Évènements pour Compagnie Alfred De La Neuche
REFRESH-INTERVAL;VALUE=DURATION:PT1H
X-Robots-Tag:noindex
X-PUBLISHED-TTL:PT1H
BEGIN:VTIMEZONE
TZID:Europe/Paris
BEGIN:DAYLIGHT
TZOFFSETFROM:+0100
TZOFFSETTO:+0200
TZNAME:CEST
DTSTART:20130331T010000
END:DAYLIGHT
BEGIN:STANDARD
TZOFFSETFROM:+0200
TZOFFSETTO:+0100
TZNAME:CET
DTSTART:20131027T010000
END:STANDARD
BEGIN:DAYLIGHT
TZOFFSETFROM:+0100
TZOFFSETTO:+0200
TZNAME:CEST
DTSTART:20140330T010000
END:DAYLIGHT
BEGIN:STANDARD
TZOFFSETFROM:+0200
TZOFFSETTO:+0100
TZNAME:CET
DTSTART:20141026T010000
END:STANDARD
BEGIN:DAYLIGHT
TZOFFSETFROM:+0100
TZOFFSETTO:+0200
TZNAME:CEST
DTSTART:20150329T010000
END:DAYLIGHT
BEGIN:STANDARD
TZOFFSETFROM:+0200
TZOFFSETTO:+0100
TZNAME:CET
DTSTART:20151025T010000
END:STANDARD
END:VTIMEZONE
BEGIN:VEVENT
DTSTART;VALUE=DATE:20141012
DTEND;VALUE=DATE:20141013
DTSTAMP:20260421T174614
CREATED:20141009T130429Z
LAST-MODIFIED:20150325T031227Z
UID:471-1413072000-1413158399@www.delaneuche.org
SUMMARY:Le jardin sonore d'Alfred au festival Fermat science dimanche 12 octobre
DESCRIPTION:http://www.fermat-science.com\n \n\n	Le jardin Sonore d' Alfred de la Neuche est une rencontre sensorielle où le partage et la tendresse s’invitent au cœur de la musique :  Tout-petits et grands deviennent acteurs et peuvent s’évader ensemble\, le temps d’une découverte originale et amusante. Les instruments sont entièrement fait à la main\, à partir de matériel de récupération.  \n \n\n	Le dimanche 12 octobre\, dans le cadre  de la fête nationale de la Science\, nous sommes invités par l'association Fermat Science à Beaumont de Laumagne (82) à présenter le jardin sonore et y conduire des ateliers de fabrication d'instruments. \n\n\n	Plus d'infos sur le jardin sonore\n \n\n	 \n \n\n	 
URL:https://www.delaneuche.org/date/le-jardin-sonore-au-festival-detours-du-monde-a-chanac-48/
CATEGORIES:Le jardin sonore
END:VEVENT
END:VCALENDAR