BEGIN:VCALENDAR
VERSION:2.0
PRODID:-//Compagnie Alfred De La Neuche - ECPv6.15.15//NONSGML v1.0//EN
CALSCALE:GREGORIAN
METHOD:PUBLISH
X-ORIGINAL-URL:https://www.delaneuche.org
X-WR-CALDESC:Évènements pour Compagnie Alfred De La Neuche
REFRESH-INTERVAL;VALUE=DURATION:PT1H
X-Robots-Tag:noindex
X-PUBLISHED-TTL:PT1H
BEGIN:VTIMEZONE
TZID:Europe/Paris
BEGIN:DAYLIGHT
TZOFFSETFROM:+0100
TZOFFSETTO:+0200
TZNAME:CEST
DTSTART:20130331T010000
END:DAYLIGHT
BEGIN:STANDARD
TZOFFSETFROM:+0200
TZOFFSETTO:+0100
TZNAME:CET
DTSTART:20131027T010000
END:STANDARD
BEGIN:DAYLIGHT
TZOFFSETFROM:+0100
TZOFFSETTO:+0200
TZNAME:CEST
DTSTART:20140330T010000
END:DAYLIGHT
BEGIN:STANDARD
TZOFFSETFROM:+0200
TZOFFSETTO:+0100
TZNAME:CET
DTSTART:20141026T010000
END:STANDARD
BEGIN:DAYLIGHT
TZOFFSETFROM:+0100
TZOFFSETTO:+0200
TZNAME:CEST
DTSTART:20150329T010000
END:DAYLIGHT
BEGIN:STANDARD
TZOFFSETFROM:+0200
TZOFFSETTO:+0100
TZNAME:CET
DTSTART:20151025T010000
END:STANDARD
END:VTIMEZONE
BEGIN:VEVENT
DTSTART;TZID=Europe/Paris:20140531T080000
DTEND;TZID=Europe/Paris:20140601T170000
DTSTAMP:20260421T235325
CREATED:20140520T111845Z
LAST-MODIFIED:20150325T011502Z
UID:1173-1401523200-1401642000@www.delaneuche.org
SUMMARY:Les P'tits Bobos dans les jardins de la Fontaine à Nîmes le samedi 31 mai et dimanche 1er Juin​ ​2014​
DESCRIPTION:Madame Fenouil et Mlle Pomadine ont le plaisir de vous inviter le samedi 31 mai et dimanche 1er Juin​ ​2014​ dans les jardins de la Fontaine à Nîmes à partir de 14 heures à l’occasion de la manifestatio​n nationale​​​ « Rendez-vous aux jardins »
URL:https://www.delaneuche.org/date/les-ptits-bobos-dans-les-jardins-de-la-fontaine-a-nimes-le-samedi-31-mai-et-dimanche-1er-juin%e2%80%8b-%e2%80%8b2014%e2%80%8b/
END:VEVENT
END:VCALENDAR