BEGIN:VCALENDAR
VERSION:2.0
PRODID:-//Compagnie Alfred De La Neuche - ECPv6.15.15//NONSGML v1.0//EN
CALSCALE:GREGORIAN
METHOD:PUBLISH
X-ORIGINAL-URL:https://www.delaneuche.org
X-WR-CALDESC:Évènements pour Compagnie Alfred De La Neuche
REFRESH-INTERVAL;VALUE=DURATION:PT1H
X-Robots-Tag:noindex
X-PUBLISHED-TTL:PT1H
BEGIN:VTIMEZONE
TZID:UTC
BEGIN:STANDARD
TZOFFSETFROM:+0000
TZOFFSETTO:+0000
TZNAME:UTC
DTSTART:20200101T000000
END:STANDARD
END:VTIMEZONE
BEGIN:VEVENT
DTSTART;TZID=UTC:20210918T100000
DTEND;TZID=UTC:20210918T170000
DTSTAMP:20260421T153120
CREATED:20210727T094918Z
LAST-MODIFIED:20210727T094919Z
UID:5589-1631959200-1631984400@www.delaneuche.org
SUMMARY:Le Village sensoriel à Fontaines sur Saône
DESCRIPTION:Le village sensoriel sera à Fontaines-sur-Saône le samedi 18 septembre dans le cadre du festival « Village Fant’artistique ».
URL:https://www.delaneuche.org/date/le-village-sensoriel-a-fontaines-sur-saone/
CATEGORIES:Le village sensoriel
ATTACH;FMTTYPE=image/jpeg:https://www.delaneuche.org/administration/wp-content/uploads/2020/04/IMG_20200409_191653-e1587721189649.jpg
END:VEVENT
END:VCALENDAR