BEGIN:VCALENDAR
VERSION:2.0
PRODID:-//Compagnie Alfred De La Neuche - ECPv6.15.15//NONSGML v1.0//EN
CALSCALE:GREGORIAN
METHOD:PUBLISH
X-ORIGINAL-URL:https://www.delaneuche.org
X-WR-CALDESC:Évènements pour Compagnie Alfred De La Neuche
REFRESH-INTERVAL;VALUE=DURATION:PT1H
X-Robots-Tag:noindex
X-PUBLISHED-TTL:PT1H
BEGIN:VTIMEZONE
TZID:Europe/Paris
BEGIN:DAYLIGHT
TZOFFSETFROM:+0100
TZOFFSETTO:+0200
TZNAME:CEST
DTSTART:20170326T010000
END:DAYLIGHT
BEGIN:STANDARD
TZOFFSETFROM:+0200
TZOFFSETTO:+0100
TZNAME:CET
DTSTART:20171029T010000
END:STANDARD
BEGIN:DAYLIGHT
TZOFFSETFROM:+0100
TZOFFSETTO:+0200
TZNAME:CEST
DTSTART:20180325T010000
END:DAYLIGHT
BEGIN:STANDARD
TZOFFSETFROM:+0200
TZOFFSETTO:+0100
TZNAME:CET
DTSTART:20181028T010000
END:STANDARD
BEGIN:DAYLIGHT
TZOFFSETFROM:+0100
TZOFFSETTO:+0200
TZNAME:CEST
DTSTART:20190331T010000
END:DAYLIGHT
BEGIN:STANDARD
TZOFFSETFROM:+0200
TZOFFSETTO:+0100
TZNAME:CET
DTSTART:20191027T010000
END:STANDARD
END:VTIMEZONE
BEGIN:VEVENT
DTSTART;TZID=Europe/Paris:20180427T093000
DTEND;TZID=Europe/Paris:20180427T123000
DTSTAMP:20260424T041216
CREATED:20180313T102024Z
LAST-MODIFIED:20180313T102024Z
UID:4561-1524821400-1524832200@www.delaneuche.org
SUMMARY:Le village sensoriel d'Alfred à la Maison pour tous Albert Camus
DESCRIPTION:Le vendredi 27 avril\, pendant les vacances de Pacques\, le village sensoriel sera installé dans les Jardins de la Maison pour tous Albert Camus à Montpellier pour la deuxième édition du festival « Une Souris verte ».
URL:https://www.delaneuche.org/date/le-village-sensoriel-dalfred-a-la-maison-pour-tous-albert-camus/
CATEGORIES:Le village sensoriel
ATTACH;FMTTYPE=image/jpeg:https://www.delaneuche.org/administration/wp-content/uploads/2014/01/jardin5.jpg
END:VEVENT
END:VCALENDAR