BEGIN:VCALENDAR
VERSION:2.0
PRODID:-//Compagnie Alfred De La Neuche - ECPv6.15.15//NONSGML v1.0//EN
CALSCALE:GREGORIAN
METHOD:PUBLISH
X-WR-CALNAME:Compagnie Alfred De La Neuche
X-ORIGINAL-URL:https://www.delaneuche.org
X-WR-CALDESC:Évènements pour Compagnie Alfred De La Neuche
REFRESH-INTERVAL;VALUE=DURATION:PT1H
X-Robots-Tag:noindex
X-PUBLISHED-TTL:PT1H
BEGIN:VTIMEZONE
TZID:Europe/Paris
BEGIN:DAYLIGHT
TZOFFSETFROM:+0100
TZOFFSETTO:+0200
TZNAME:CEST
DTSTART:20160327T010000
END:DAYLIGHT
BEGIN:STANDARD
TZOFFSETFROM:+0200
TZOFFSETTO:+0100
TZNAME:CET
DTSTART:20161030T010000
END:STANDARD
BEGIN:DAYLIGHT
TZOFFSETFROM:+0100
TZOFFSETTO:+0200
TZNAME:CEST
DTSTART:20170326T010000
END:DAYLIGHT
BEGIN:STANDARD
TZOFFSETFROM:+0200
TZOFFSETTO:+0100
TZNAME:CET
DTSTART:20171029T010000
END:STANDARD
BEGIN:DAYLIGHT
TZOFFSETFROM:+0100
TZOFFSETTO:+0200
TZNAME:CEST
DTSTART:20180325T010000
END:DAYLIGHT
BEGIN:STANDARD
TZOFFSETFROM:+0200
TZOFFSETTO:+0100
TZNAME:CET
DTSTART:20181028T010000
END:STANDARD
END:VTIMEZONE
BEGIN:VEVENT
DTSTART;TZID=Europe/Paris:20170211T100000
DTEND;TZID=Europe/Paris:20170211T180000
DTSTAMP:20260424T221905
CREATED:20170124T130217Z
LAST-MODIFIED:20170204T182618Z
UID:3033-1486807200-1486836000@www.delaneuche.org
SUMMARY:Le village sensoriel à l'espace "Recto Verso" le 11 février (Montpellier)
DESCRIPTION:Avec de nouveaux instruments\, le Village sensoriel sera cette année encore à l’espace Recto Verso de Celleneuve le samedi 11 février de 10h00 à 18h00 dans le cadre du joli  festival « Cella Marmaille » \nhttp://www.delaneuche.org/installations/le-village-sensoriel/
URL:https://www.delaneuche.org/date/le-village-sensoriel-a-lespace-recto-verso-le-11-fevrier/
CATEGORIES:Festival,Le village sensoriel
ATTACH;FMTTYPE=image/jpeg:https://www.delaneuche.org/administration/wp-content/uploads/2015/10/village-sensoriel-e1457362233257.jpg
END:VEVENT
END:VCALENDAR