BEGIN:VCALENDAR
VERSION:2.0
PRODID:-//Compagnie Alfred De La Neuche - ECPv6.15.15//NONSGML v1.0//EN
CALSCALE:GREGORIAN
METHOD:PUBLISH
X-WR-CALNAME:Compagnie Alfred De La Neuche
X-ORIGINAL-URL:https://www.delaneuche.org
X-WR-CALDESC:Évènements pour Compagnie Alfred De La Neuche
REFRESH-INTERVAL;VALUE=DURATION:PT1H
X-Robots-Tag:noindex
X-PUBLISHED-TTL:PT1H
BEGIN:VTIMEZONE
TZID:UTC
BEGIN:STANDARD
TZOFFSETFROM:+0000
TZOFFSETTO:+0000
TZNAME:UTC
DTSTART:20200101T000000
END:STANDARD
END:VTIMEZONE
BEGIN:VEVENT
DTSTART;TZID=UTC:20210606T100000
DTEND;TZID=UTC:20210606T120000
DTSTAMP:20260424T185702
CREATED:20200713T123910Z
LAST-MODIFIED:20210518T082429Z
UID:5384-1622973600-1622980800@www.delaneuche.org
SUMMARY:P'tit dimanche en balade à l'Abbaye d'Aniane
DESCRIPTION:P’tit dimanche à l’Abbaye d’Aniane avec  Maria Robin et ses chansons du monde des animaux\, des contes de plumes et un atelier d’éveil à la danse avec Sarah Freby. \n\n\n\nRenseignements et réservations à l’Office Culturel de la Vallée de l’Hérault\, le Sonambule.
URL:https://www.delaneuche.org/date/ptit-dimanche-au-sonambule-de-gignac/
CATEGORIES:Animation musicale,Animations,Spectacles jeune et très jeune public
ATTACH;FMTTYPE=image/png:https://www.delaneuche.org/administration/wp-content/uploads/2020/07/Capture-d’écran-2020-09-28-à-11.07.29.png
END:VEVENT
END:VCALENDAR